BEGIN:VCALENDAR
VERSION:2.0
PRODID:-//Agenda Cofrade 365 Días - ECPv6.3.7//NONSGML v1.0//EN
CALSCALE:GREGORIAN
METHOD:PUBLISH
X-WR-CALNAME:Agenda Cofrade 365 Días
X-ORIGINAL-URL:https://cordobacapitalcofrade.com
X-WR-CALDESC:Eventos para Agenda Cofrade 365 Días
REFRESH-INTERVAL;VALUE=DURATION:PT1H
X-Robots-Tag:noindex
X-PUBLISHED-TTL:PT1H
BEGIN:VTIMEZONE
TZID:UTC
BEGIN:STANDARD
TZOFFSETFROM:+0000
TZOFFSETTO:+0000
TZNAME:UTC
DTSTART:20240101T000000
END:STANDARD
END:VTIMEZONE
BEGIN:VEVENT
DTSTART;TZID=UTC:20241101T180000
DTEND;TZID=UTC:20241101T210000
DTSTAMP:20260420T202904
CREATED:20241025T120023Z
LAST-MODIFIED:20241025T120023Z
UID:3833-1730484000-1730494800@cordobacapitalcofrade.com
SUMMARY:Procesión de Nuestra Señora del Amparo
DESCRIPTION:Procesión de Nuestra Señora del Amparo\, a las 18:00 horas desde la Parroquia de San Francisco y San Eulogio recorriendo las calles de la feligresía.
URL:https://cordobacapitalcofrade.com/agenda/procesion-de-nuestra-senora-del-amparo/
LOCATION:Parroquia de San Francisco y San Eulogio\, C. Compás de San Francisco\, 0\, Córdoba\, España
CATEGORIES:Procesión
ATTACH;FMTTYPE=image/jpeg:https://cordobacapitalcofrade.com/wp-content/uploads/2024/10/Procesion-Amparo-2023-0570-min-scaled.jpg
END:VEVENT
END:VCALENDAR