BEGIN:VCALENDAR
VERSION:2.0
PRODID:-//Agenda Cofrade 365 Días - ECPv6.3.7//NONSGML v1.0//EN
CALSCALE:GREGORIAN
METHOD:PUBLISH
X-ORIGINAL-URL:https://cordobacapitalcofrade.com
X-WR-CALDESC:Eventos para Agenda Cofrade 365 Días
REFRESH-INTERVAL;VALUE=DURATION:PT1H
X-Robots-Tag:noindex
X-PUBLISHED-TTL:PT1H
BEGIN:VTIMEZONE
TZID:UTC
BEGIN:STANDARD
TZOFFSETFROM:+0000
TZOFFSETTO:+0000
TZNAME:UTC
DTSTART:20240101T000000
END:STANDARD
END:VTIMEZONE
BEGIN:VEVENT
DTSTART;TZID=UTC:20241117T131500
DTEND;TZID=UTC:20241117T143000
DTSTAMP:20260420T203647
CREATED:20241111T154706Z
LAST-MODIFIED:20241111T154706Z
UID:3971-1731849300-1731853800@cordobacapitalcofrade.com
SUMMARY:Peregrinación de los Santos Mártires y San Pelagio
DESCRIPTION:Peregrinación de los Santos Mártires y San Pelagio desde la Santa Iglesia Catedral hasta el Seminario de San Pelagio con este recorrido: Salida (13:15 horas)\, Patio de los Naranjos\, Santa Catalina\, Cardenal Herrero\, Magistral González Francés\, Corregidor Luís de la Cerda\, Plaza del Triunfo\, Amador de los Ríos y Entrada en el Seminario de San Pelagio (14:30 horas).
URL:https://cordobacapitalcofrade.com/agenda/peregrinacion-de-los-santos-martires-y-san-pelagio/
LOCATION:Santa Iglesia Catedral de Córdoba\, C. Cardenal Herrero\, 1\, Córdoba\, España
CATEGORIES:Procesión
ATTACH;FMTTYPE=image/jpeg:https://cordobacapitalcofrade.com/wp-content/uploads/2024/11/18-Peregrinacion-Santos-Martires.jpg
END:VEVENT
END:VCALENDAR