BEGIN:VCALENDAR
VERSION:2.0
PRODID:-//Agenda Cofrade 365 Días - ECPv6.3.7//NONSGML v1.0//EN
CALSCALE:GREGORIAN
METHOD:PUBLISH
X-WR-CALNAME:Agenda Cofrade 365 Días
X-ORIGINAL-URL:https://cordobacapitalcofrade.com
X-WR-CALDESC:Eventos para Agenda Cofrade 365 Días
REFRESH-INTERVAL;VALUE=DURATION:PT1H
X-Robots-Tag:noindex
X-PUBLISHED-TTL:PT1H
BEGIN:VTIMEZONE
TZID:UTC
BEGIN:STANDARD
TZOFFSETFROM:+0000
TZOFFSETTO:+0000
TZNAME:UTC
DTSTART:20240101T000000
END:STANDARD
END:VTIMEZONE
BEGIN:VEVENT
DTSTART;TZID=UTC:20241230T170000
DTEND;TZID=UTC:20241230T191500
DTSTAMP:20260420T052031
CREATED:20241227T145451Z
LAST-MODIFIED:20241227T145451Z
UID:4725-1735578000-1735586100@cordobacapitalcofrade.com
SUMMARY:Salida Procesional del Divino Pastorcillo
DESCRIPTION:Salida Procesional del Divino Pastorcillo desde la nave de salida de la Iglesia Conventual del Santo Ángel (Capuchinos) con este recorrido: Salida (17:00 horas)\, Plaza de Capuchinos\, Conde de Torres Cabrera\, Domingo Muñoz\, Ramírez de Arellano\, Góngora\, San Álvaro\, Plaza de San Miguel\, San Zoilo\, Conde de Torres Cabrera\, Obispo Fitero\, Cardenal Toledo\, Ramírez de las Casas Deza\, Carbonell y Morand\, Plaza de Capuchinos y Entrada (19:15 horas). El acompañamiento musical correrá a cargo de la Agrupación Musical del El Carpio (Córdoba).
URL:https://cordobacapitalcofrade.com/agenda/salida-procesional-del-divino-pastorcillo-2/
LOCATION:Plaza de Capuchinos\, Cordoba\, Cordoba\, Cordoba\, 14001\, España
CATEGORIES:Procesión
ATTACH;FMTTYPE=image/jpeg:https://cordobacapitalcofrade.com/wp-content/uploads/2024/12/06e0e4ef-527f-45cc-b57f-703539c6c1a0_16-9-discover-aspect-ratio_default_0.jpg
END:VEVENT
END:VCALENDAR