BEGIN:VCALENDAR
VERSION:2.0
PRODID:-//Agenda Cofrade 365 Días - ECPv6.3.7//NONSGML v1.0//EN
CALSCALE:GREGORIAN
METHOD:PUBLISH
X-WR-CALNAME:Agenda Cofrade 365 Días
X-ORIGINAL-URL:https://cordobacapitalcofrade.com
X-WR-CALDESC:Eventos para Agenda Cofrade 365 Días
REFRESH-INTERVAL;VALUE=DURATION:PT1H
X-Robots-Tag:noindex
X-PUBLISHED-TTL:PT1H
BEGIN:VTIMEZONE
TZID:UTC
BEGIN:STANDARD
TZOFFSETFROM:+0000
TZOFFSETTO:+0000
TZNAME:UTC
DTSTART:20240101T000000
END:STANDARD
END:VTIMEZONE
BEGIN:VEVENT
DTSTART;TZID=UTC:20240908T080000
DTEND;TZID=UTC:20240908T113000
DTSTAMP:20260420T064032
CREATED:20240821T114104Z
LAST-MODIFIED:20240821T114104Z
UID:3235-1725782400-1725795000@cordobacapitalcofrade.com
SUMMARY:Rosario de la Aurora de Nuestra Señora de la Estrella
DESCRIPTION:Rosario de la Aurora de Nuestra Señora de la Estrella desde la Parroquia de San Fernando con el siguiente recorrido: Salida (08:00 horas)\, Joaquín Sama Naharro\, Colombia\, Músico Juan Encina\, Músico Francisco de Salinas\, Interior de la Parroquia de las Santas Margaritas (Sagrada Eucaristía 09:00 horas)\, Santa María de Trassierra\, Músico Tomás Luis de Victoria\, Músico Antonio de Cabezón\, Goya\, Marqués de Guadalcázar\, Alcalde Pineda Infantas Castillejo\, Joaquín Sama Naharro y Entrada.
URL:https://cordobacapitalcofrade.com/agenda/rosario-de-la-aurora-de-nuestra-senora-de-la-estrella/
LOCATION:Parroquia de San Fernando\, C. Goya\, 24\, 14006 Córdoba\, Córdoba\, España
CATEGORIES:Rosario
ATTACH;FMTTYPE=image/jpeg:https://cordobacapitalcofrade.com/wp-content/uploads/2024/08/IMG_5295-1.jpg
END:VEVENT
END:VCALENDAR