BEGIN:VCALENDAR
VERSION:2.0
PRODID:-//Agenda Cofrade 365 Días - ECPv6.3.7//NONSGML v1.0//EN
CALSCALE:GREGORIAN
METHOD:PUBLISH
X-ORIGINAL-URL:https://cordobacapitalcofrade.com
X-WR-CALDESC:Eventos para Agenda Cofrade 365 Días
REFRESH-INTERVAL;VALUE=DURATION:PT1H
X-Robots-Tag:noindex
X-PUBLISHED-TTL:PT1H
BEGIN:VTIMEZONE
TZID:UTC
BEGIN:STANDARD
TZOFFSETFROM:+0000
TZOFFSETTO:+0000
TZNAME:UTC
DTSTART:20240101T000000
END:STANDARD
END:VTIMEZONE
BEGIN:VEVENT
DTSTART;TZID=UTC:20240914T210000
DTEND;TZID=UTC:20240914T225000
DTSTAMP:20260420T064214
CREATED:20240911T144306Z
LAST-MODIFIED:20240911T144306Z
UID:3460-1726347600-1726354200@cordobacapitalcofrade.com
SUMMARY:Rosario Vespertino de la Santísima Virgen (Hdad. Caridad)
DESCRIPTION:Rosario Vespertino de la Santísima Virgen (Hdad. Caridad)\, tendrá lugar el 14 de septiembre. El recorrido será el siguiente: \nCompás de San Francisco (21 horas)\, Portillo\, C/ Cabezas\, Banadillas\, Zapatería Vieha\, Plz Abades\, Portería de Santa Clara\, Rey Heredia\, Cardenal González\, Lucano\, Plz del Potro\, Romero Barros\, San Francisco\, Compás de San Francisco (22:50 horas).
URL:https://cordobacapitalcofrade.com/agenda/rosario-vespertino-de-la-santisima-virgen-hdad-caridad/
LOCATION:Parroquia de San Francisco y San Eulogio\, C. Compás de San Francisco\, 0\, Córdoba\, España
CATEGORIES:Rosario
ATTACH;FMTTYPE=image/jpeg:https://cordobacapitalcofrade.com/wp-content/uploads/2024/09/1726065211913.jpg
END:VEVENT
END:VCALENDAR