BEGIN:VCALENDAR
VERSION:2.0
PRODID:-//Agenda Cofrade 365 Días - ECPv6.3.7//NONSGML v1.0//EN
CALSCALE:GREGORIAN
METHOD:PUBLISH
X-WR-CALNAME:Agenda Cofrade 365 Días
X-ORIGINAL-URL:https://cordobacapitalcofrade.com
X-WR-CALDESC:Eventos para Agenda Cofrade 365 Días
REFRESH-INTERVAL;VALUE=DURATION:PT1H
X-Robots-Tag:noindex
X-PUBLISHED-TTL:PT1H
BEGIN:VTIMEZONE
TZID:UTC
BEGIN:STANDARD
TZOFFSETFROM:+0000
TZOFFSETTO:+0000
TZNAME:UTC
DTSTART:20240101T000000
END:STANDARD
END:VTIMEZONE
BEGIN:VEVENT
DTSTART;TZID=UTC:20240929T080000
DTEND;TZID=UTC:20240929T110000
DTSTAMP:20260420T155102
CREATED:20240904T150643Z
LAST-MODIFIED:20240904T150643Z
UID:3402-1727596800-1727607600@cordobacapitalcofrade.com
SUMMARY:Rosario de la Aurora de Ntra. Sra. De la Merced
DESCRIPTION:Rosario de la Aurora de Ntra. Sra. De la Merced\, tendrá lugar el 29 de septiembre a las 8 horas hasta el Convento de San José (San Cayetano).
URL:https://cordobacapitalcofrade.com/agenda/rosario-de-la-aurora-de-ntra-sra-de-la-merced/
LOCATION:Parroquia San Antonio de Padua\, Av. Agrupación Córdoba 11\, CÓRDOBA\, Córdoba\, 14007\, España
CATEGORIES:Rosario
ATTACH;FMTTYPE=image/jpeg:https://cordobacapitalcofrade.com/wp-content/uploads/2024/09/ROSARIO.jpg
END:VEVENT
END:VCALENDAR