BEGIN:VCALENDAR
VERSION:2.0
PRODID:-//Agenda Cofrade 365 Días - ECPv6.3.7//NONSGML v1.0//EN
CALSCALE:GREGORIAN
METHOD:PUBLISH
X-WR-CALNAME:Agenda Cofrade 365 Días
X-ORIGINAL-URL:https://cordobacapitalcofrade.com
X-WR-CALDESC:Eventos para Agenda Cofrade 365 Días
REFRESH-INTERVAL;VALUE=DURATION:PT1H
X-Robots-Tag:noindex
X-PUBLISHED-TTL:PT1H
BEGIN:VTIMEZONE
TZID:UTC
BEGIN:STANDARD
TZOFFSETFROM:+0000
TZOFFSETTO:+0000
TZNAME:UTC
DTSTART:20240101T000000
END:STANDARD
END:VTIMEZONE
BEGIN:VEVENT
DTSTART;TZID=UTC:20241005T193000
DTEND;TZID=UTC:20241005T213000
DTSTAMP:20260419T222156
CREATED:20240924T141616Z
LAST-MODIFIED:20241004T114953Z
UID:3601-1728156600-1728163800@cordobacapitalcofrade.com
SUMMARY:Rosario Vespertino presidido por María Santísima de la Amargura
DESCRIPTION:Hermandad del Rescatado: Rosario Vespertino presidido por María Santísima de la Amargura desde la Parroquia de Nuestra Señora de Gracia (Trinitarios) con el siguiente itinerario: Salida (19:30 horas)\, Plaza Cristo de Gracia\, Frailes\, Queso\, María Auxiliadora\, Trinitarios Padre Manuel Fuentes\, Avenida de Barcelona\, Tras la Puerta\, Avenida de la Viñuela\, Avenida Jesús Rescatado\, Puerta de Plasencia\, Plaza Cristo de Gracia y Entrada (21:30 horas).
URL:https://cordobacapitalcofrade.com/agenda/rosario-vespertino-presidido-por-maria-santisima-de-la-amargura/
LOCATION:Parroquia de Ntra. Sra. De Gracia y San Eulogio (P.P. Trinitarios)\, Plaza Cristo de Gracia\, 5\, Córdoba\, Córdoba\, 14002\, España
CATEGORIES:Rosario
ATTACH;FMTTYPE=image/jpeg:https://cordobacapitalcofrade.com/wp-content/uploads/2024/09/amargura2-scaled-1.jpg
END:VEVENT
BEGIN:VEVENT
DTSTART;TZID=UTC:20241005T210000
DTEND;TZID=UTC:20241005T223000
DTSTAMP:20260419T222156
CREATED:20240925T145848Z
LAST-MODIFIED:20241002T125720Z
UID:3626-1728162000-1728167400@cordobacapitalcofrade.com
SUMMARY:Rosario Vespertino presidido por Nuestra Señora Madre de Dios en sus Tristezas
DESCRIPTION:Rosario Vespertino presidido por Nuestra Señora Madre de Dios en sus Tristezas desde la Real Parroquia de San Lorenzo Mártir con este itinerario: Salida (21:00 horas)\, Plaza de San Lorenzo\, Jesús del Calvario\, Plaza San Juan de Letrán\, Montero\, San Agustín\, Jesús Nazareno\, Yerbabuena\, Buen Suceso\, Plaza Juan Bernier\, Arroyo de San Rafael\, Plaza de San Lorenzo y Entrada. 
URL:https://cordobacapitalcofrade.com/agenda/rosario-vespertino-presidido-por-nuestra-senora-madre-de-dios-en-sus-tristezas/
LOCATION:Real Parroquia de San Lorenzo Mártir\, Pl. de San Lorenzo\, 5\, Córdoba\, España
CATEGORIES:Rosario
ATTACH;FMTTYPE=image/jpeg:https://cordobacapitalcofrade.com/wp-content/uploads/2024/09/Rosario-Vespertino-Tristezas-0016-min-scaled.jpg
END:VEVENT
END:VCALENDAR