BEGIN:VCALENDAR
VERSION:2.0
PRODID:-//Agenda Cofrade 365 Días - ECPv6.3.7//NONSGML v1.0//EN
CALSCALE:GREGORIAN
METHOD:PUBLISH
X-ORIGINAL-URL:https://cordobacapitalcofrade.com
X-WR-CALDESC:Eventos para Agenda Cofrade 365 Días
REFRESH-INTERVAL;VALUE=DURATION:PT1H
X-Robots-Tag:noindex
X-PUBLISHED-TTL:PT1H
BEGIN:VTIMEZONE
TZID:UTC
BEGIN:STANDARD
TZOFFSETFROM:+0000
TZOFFSETTO:+0000
TZNAME:UTC
DTSTART:20240101T000000
END:STANDARD
END:VTIMEZONE
BEGIN:VEVENT
DTSTART;TZID=UTC:20241006T071500
DTEND;TZID=UTC:20241006T081500
DTSTAMP:20260420T001127
CREATED:20240830T132349Z
LAST-MODIFIED:20240918T122017Z
UID:3291-1728198900-1728202500@cordobacapitalcofrade.com
SUMMARY:Rosario de la Aurora de Nuestra Señora de la Piedad
DESCRIPTION:Rosario de la Aurora de Nuestra Señora de la Piedad desde el Santuario de María Auxiliadora con este recorrido: Salida (07:15 horas)\, María Auxiliadora. Escañuela\, Prolongación Escañuela\, Golondrina\, Ronda de Andújar\, Plaza Jesús del Prendimiento\, Arroyo de San Lorenzo\, Plaza de San Lorenzo\, Jesús del Calvario\, Plaza San Juan de Letrán\, Alvar Rodríguez\, María Auxiliadora y Entrada. 
URL:https://cordobacapitalcofrade.com/agenda/rosario-de-la-aurora-de-nuestra-senora-de-la-piedad/
LOCATION:Santuario de María Auxiliadora\, C. María Auxiliadora\, 8\, Centro\, 14002 Córdoba\, Córdoba\, España
CATEGORIES:Rosario
ATTACH;FMTTYPE=image/jpeg:https://cordobacapitalcofrade.com/wp-content/uploads/2024/08/RosarioPiedad11.jpg
END:VEVENT
BEGIN:VEVENT
DTSTART;TZID=UTC:20241006T103000
DTEND;TZID=UTC:20241006T123000
DTSTAMP:20260420T001127
CREATED:20240930T150257Z
LAST-MODIFIED:20240930T150257Z
UID:3662-1728210600-1728217800@cordobacapitalcofrade.com
SUMMARY:Rosario presidido por Nuestra Señora de la Cabeza
DESCRIPTION:Rosario presidido por Nuestra Señora de la Cabeza desde la Parroquia de San Francisco y San Eulogio con este itinerario: Salida (10:30 horas)\, Compás de San Francisco\, San Fernando\, Arco del Portillo\, Julio Romero de Torres\, Horno del Cristo\, Rey Heredia\, Convento de la Encarnación\, Encarnación\, Magistral González Francés\, Plaza de Santa Catalina\, Martínez Rucker\, Plaza de Abades\, Zapatería Vieja\, Badanillas\, Cabezas\, Portillo\, San Fernando\, Compás de San Francisco y Entrada. 
URL:https://cordobacapitalcofrade.com/agenda/rosario-presidido-por-nuestra-senora-de-la-cabeza/
LOCATION:Parroquia de San Francisco y San Eulogio\, C. Compás de San Francisco\, 0\, Córdoba\, España
CATEGORIES:Rosario
ATTACH;FMTTYPE=image/jpeg:https://cordobacapitalcofrade.com/wp-content/uploads/2024/09/IMG_6115.jpeg
END:VEVENT
END:VCALENDAR