BEGIN:VCALENDAR
VERSION:2.0
PRODID:-//Agenda Cofrade 365 Días - ECPv6.3.7//NONSGML v1.0//EN
CALSCALE:GREGORIAN
METHOD:PUBLISH
X-WR-CALNAME:Agenda Cofrade 365 Días
X-ORIGINAL-URL:https://cordobacapitalcofrade.com
X-WR-CALDESC:Eventos para Agenda Cofrade 365 Días
REFRESH-INTERVAL;VALUE=DURATION:PT1H
X-Robots-Tag:noindex
X-PUBLISHED-TTL:PT1H
BEGIN:VTIMEZONE
TZID:UTC
BEGIN:STANDARD
TZOFFSETFROM:+0000
TZOFFSETTO:+0000
TZNAME:UTC
DTSTART:20240101T000000
END:STANDARD
END:VTIMEZONE
BEGIN:VEVENT
DTSTART;TZID=UTC:20241012T080000
DTEND;TZID=UTC:20241012T093000
DTSTAMP:20260419T222151
CREATED:20241007T125425Z
LAST-MODIFIED:20241007T125425Z
UID:3708-1728720000-1728725400@cordobacapitalcofrade.com
SUMMARY:Rosario de la Aurora presidido por María Santísima de la Encarnación
DESCRIPTION:Rosario de la Aurora presidido por María Santísima de la Encarnación desde la Parroquia de Jesús Divino Obrero con este recorrido: Salida (08:00 horas)\, Pasaje Cristo del Amor\, Beato Henares\, Doña Aldonza\, Tenerife\, Pio XII\, Doble de Cepa\, Alcaide de los Donceles\, Ciudad de Carmona\, Secunda Romana\, Osario Romano\, Beato Henares\, Pasaje Cristo del Amor y Entrada. 
URL:https://cordobacapitalcofrade.com/agenda/rosario-de-la-aurora-presidido-por-maria-santisima-de-la-encarnacion/
LOCATION:Parroquia de Jesús Divino Obrero\, C. Beato Henares\, 1\, Córdoba\, España
CATEGORIES:Rosario
ATTACH;FMTTYPE=image/jpeg:https://cordobacapitalcofrade.com/wp-content/uploads/2024/10/391755434_341447125111510_1455151805278440378_n.jpg
END:VEVENT
BEGIN:VEVENT
DTSTART;TZID=UTC:20241012T183000
DTEND;TZID=UTC:20241012T203000
DTSTAMP:20260419T222151
CREATED:20241007T130033Z
LAST-MODIFIED:20241007T131207Z
UID:3714-1728757800-1728765000@cordobacapitalcofrade.com
SUMMARY:Rosario Vespertino Extraordinario de Traslado de María Santísima del Dulce Nombre
DESCRIPTION:Rosario Vespertino Extraordinario de Traslado de María Santísima del Dulce Nombre con motivo del XL Aniversario de su bendición y la Imposición de la faja de General de Ejército\,  horas desde la Parroquia de San José y Espíritu Santo hasta la Santa Iglesia Catedral con este recorrido: Salida (18:00 horas)\, Paseo Cristo del Descendimiento\, Avenida de la Diputación\, Plaza de Santa Teresa\, Bajada del Puente\, Puente Romano\, Plaza del Triunfo\, Corregidor Luís de la Cerda\, Magistral González Francés\, Puerta de Santa Catalina\, Patio de los Naranjos y Entrada a la Santa Iglesia Catedral (19:30 horas). Acompañará musicalmente la Agrupación de Auroros de Benamejí (Córdoba).
URL:https://cordobacapitalcofrade.com/agenda/rosario-vespertino-extraordinario-de-traslado-de-maria-santisima-del-dulce-nombre/
LOCATION:Parroquia de San José y Espíritu Santo\, Pl. de Santa Teresa\, 1\, Córdoba\, España
CATEGORIES:Procesión,Rosario
ATTACH;FMTTYPE=image/webp:https://cordobacapitalcofrade.com/wp-content/uploads/2024/10/galeria-veracruz-cordoba7.webp
END:VEVENT
BEGIN:VEVENT
DTSTART;TZID=UTC:20241012T200000
DTEND;TZID=UTC:20241012T223000
DTSTAMP:20260419T222151
CREATED:20240930T164100Z
LAST-MODIFIED:20240930T164100Z
UID:3673-1728763200-1728772200@cordobacapitalcofrade.com
SUMMARY:Rosario Vespertino Ntra. Sra. De La O
DESCRIPTION:Rosario Vespertino Ntra. Sra. De La O\, tendrá lugar el 12 de octubre a las 20 horas con el siguiente recorrido: plaza Mahatma Gandhi\, Avenida Ntra. Sra. De la Merced\, Calle Historiador Jaén Morente\, Calle Arcos de la Frontera\, Avenida Virgen de Fátima y plaza Mahatma Gandhi (22.30 horas).
URL:https://cordobacapitalcofrade.com/agenda/rosario-vespertino-ntra-sra-de-la-o/
LOCATION:Parroquia de Nuestra Señora de la Aurora\, Plaza Mahatma Gandhi sn\, Córdoba\, Córdoba\, 14014\, España
CATEGORIES:Rosario
ATTACH;FMTTYPE=image/jpeg:https://cordobacapitalcofrade.com/wp-content/uploads/2024/09/WhatsApp-Image-2024-09-30-at-17.53.08.jpeg
END:VEVENT
BEGIN:VEVENT
DTSTART;TZID=UTC:20241012T204500
DTEND;TZID=UTC:20241012T224500
DTSTAMP:20260419T222151
CREATED:20241007T131822Z
LAST-MODIFIED:20241009T124110Z
UID:3723-1728765900-1728773100@cordobacapitalcofrade.com
SUMMARY:Rosario Vespertino presidido por María Santísima de la Caridad
DESCRIPTION:Rosario Vespertino presidido por María Santísima de la Caridad desde la Parroquia de San Andrés Apóstol con este itinerario: Salida (20:45 horas)\, San Andrés\, Hermanos López Dieguez\, Palacio de Viana\, Morales\, Zarco\, Rejas de Don Gome\, San Agustín\, Jesús Nazareno\, Iglesia Hospital de Jesús Nazareno\, Yerbabuena\, Buen Suceso\, Arroyo de San Andrés\, Hermanos López Dieguez\, San Andrés y Entrada (22:45 horas). 
URL:https://cordobacapitalcofrade.com/agenda/rosario-vespertino-presidido-por-maria-santisima-de-la-caridad/
LOCATION:Parroquia de San Andrés Apóstol\, Pl. San Andrés\, 0\, Córdoba\, España
CATEGORIES:Rosario
ATTACH;FMTTYPE=image/jpeg:https://cordobacapitalcofrade.com/wp-content/uploads/2024/10/hq720.jpg
END:VEVENT
END:VCALENDAR