BEGIN:VCALENDAR
VERSION:2.0
PRODID:-//Agenda Cofrade 365 Días - ECPv6.3.7//NONSGML v1.0//EN
CALSCALE:GREGORIAN
METHOD:PUBLISH
X-ORIGINAL-URL:https://cordobacapitalcofrade.com
X-WR-CALDESC:Eventos para Agenda Cofrade 365 Días
REFRESH-INTERVAL;VALUE=DURATION:PT1H
X-Robots-Tag:noindex
X-PUBLISHED-TTL:PT1H
BEGIN:VTIMEZONE
TZID:UTC
BEGIN:STANDARD
TZOFFSETFROM:+0000
TZOFFSETTO:+0000
TZNAME:UTC
DTSTART:20240101T000000
END:STANDARD
END:VTIMEZONE
BEGIN:VEVENT
DTSTART;TZID=UTC:20241026T164500
DTEND;TZID=UTC:20241026T190000
DTSTAMP:20260420T001224
CREATED:20240917T131723Z
LAST-MODIFIED:20240917T131723Z
UID:3546-1729961100-1729969200@cordobacapitalcofrade.com
SUMMARY:Rosario Vespertino de María Santísima de la Victoria
DESCRIPTION:Rosario Vespertino de María Santísima de la Victoria desde la Parroquia de Santa Beatríz de Silva con este recorrido: Salida (16:45 horas)\, Del Campo\, Pasaje Centro de Salud (17:05 horas)\, Las Lomas\, Del Deporte\, Avenida Mirasierra (17:40 horas)\, Avenida de la Paz (17:50 horas)\, De las Lomas\, Alameda (Pasaje)\, Avenida Mirasierra\, Avenida Alameda\, Del Campo y Entrada (19:00 horas). Acompañará musicalmente el Quinteto «Gregis Mater» de Córdoba y la Banda de Música «Cristo del Amor» de Córdoba.
URL:https://cordobacapitalcofrade.com/agenda/rosario-vespertino-de-maria-santisima-de-la-victoria/
LOCATION:Parroquia Sta. Beatriz de Silva\, Pasaje Mercado\, 3\, Córdoba\, Córdoba\, 14005\, España
CATEGORIES:Rosario
ATTACH;FMTTYPE=image/jpeg:https://cordobacapitalcofrade.com/wp-content/uploads/2024/09/Rosario-Vespertino-Victoria-0056.jpg
END:VEVENT
END:VCALENDAR