BEGIN:VCALENDAR
VERSION:2.0
PRODID:-//Agenda Cofrade 365 Días - ECPv6.3.7//NONSGML v1.0//EN
CALSCALE:GREGORIAN
METHOD:PUBLISH
X-ORIGINAL-URL:https://cordobacapitalcofrade.com
X-WR-CALDESC:Eventos para Agenda Cofrade 365 Días
REFRESH-INTERVAL;VALUE=DURATION:PT1H
X-Robots-Tag:noindex
X-PUBLISHED-TTL:PT1H
BEGIN:VTIMEZONE
TZID:UTC
BEGIN:STANDARD
TZOFFSETFROM:+0000
TZOFFSETTO:+0000
TZNAME:UTC
DTSTART:20240101T000000
END:STANDARD
END:VTIMEZONE
BEGIN:VEVENT
DTSTART;TZID=UTC:20241027T090000
DTEND;TZID=UTC:20241027T100000
DTSTAMP:20260420T001220
CREATED:20240917T133643Z
LAST-MODIFIED:20240917T133643Z
UID:3559-1730019600-1730023200@cordobacapitalcofrade.com
SUMMARY:Rosario de la Aurora de María Santísima del Amor
DESCRIPTION:Rosario de la Aurora presidido por María Santísima del Amor a las 09:00 horas desde la Parroquia de Nuestra Señora de la Paz (San Basilio)\, recorriendo las calles de la feligresía.
URL:https://cordobacapitalcofrade.com/agenda/rosario-de-la-aurora-de-maria-santisima-del-amor/
LOCATION:Parroquia de Nuestra Señora de la Paz\, Córdoba\, C/San Basilio\, Córdoba\, España
CATEGORIES:Rosario
ATTACH;FMTTYPE=image/jpeg:https://cordobacapitalcofrade.com/wp-content/uploads/2024/09/ROSARIO-1.jpg
END:VEVENT
BEGIN:VEVENT
DTSTART;TZID=UTC:20241027T100000
DTEND;TZID=UTC:20241027T140000
DTSTAMP:20260420T001220
CREATED:20241017T071501Z
LAST-MODIFIED:20241017T071937Z
UID:3796-1730023200-1730037600@cordobacapitalcofrade.com
SUMMARY:Rosario Ntra. Sra. Paz y Esperanza
DESCRIPTION:Rosario con la imagen de Ntra. Sra. De la Paz y Esperanza tendrá lugar el 27 de octubre a las 10 horas\, desde la Iglesia Conventual del Santo Ángel (Capuchinos). \nCon la visita a los conventos de la zona y la Parroquia de San Miguel\, acompañada por el Coro Paz y Esperanza. \nEucaristía a las 12:30 horas.
URL:https://cordobacapitalcofrade.com/agenda/rosario-ntra-sra-paz-y-esperanza/
LOCATION:Iglesia conventual del Santo Ángel PP. Capuchinos\, Plaza de Capuchinos\, 5\, Córdoba\, Córdoba\, 14001\, España
CATEGORIES:Rosario
ATTACH;FMTTYPE=image/jpeg:https://cordobacapitalcofrade.com/wp-content/uploads/2024/10/WhatsApp-Image-2024-10-17-at-09.17.46.jpeg
END:VEVENT
END:VCALENDAR