BEGIN:VCALENDAR
VERSION:2.0
PRODID:-//Agenda Cofrade 365 Días - ECPv6.3.7//NONSGML v1.0//EN
CALSCALE:GREGORIAN
METHOD:PUBLISH
X-WR-CALNAME:Agenda Cofrade 365 Días
X-ORIGINAL-URL:https://cordobacapitalcofrade.com
X-WR-CALDESC:Eventos para Agenda Cofrade 365 Días
REFRESH-INTERVAL;VALUE=DURATION:PT1H
X-Robots-Tag:noindex
X-PUBLISHED-TTL:PT1H
BEGIN:VTIMEZONE
TZID:UTC
BEGIN:STANDARD
TZOFFSETFROM:+0000
TZOFFSETTO:+0000
TZNAME:UTC
DTSTART:20240101T000000
END:STANDARD
END:VTIMEZONE
BEGIN:VEVENT
DTSTART;TZID=UTC:20241109T073000
DTEND;TZID=UTC:20241109T090000
DTSTAMP:20260419T235517
CREATED:20241029T190039Z
LAST-MODIFIED:20241029T190039Z
UID:3902-1731137400-1731142800@cordobacapitalcofrade.com
SUMMARY:Rosario de la Aurora de María Santísima de Regla
DESCRIPTION:Rosario de la Aurora de María Santísima de Regla desde la Parroquia de Nuestra Señora del Carmen con este recorrido: Salida (07:30 horas)\, Puerta Nueva\, Ronda de Andújar\, Plaza de la Magdalena\, Ancha de la Magdalena\, Alfonso XII\, Ravé\, Barrio nuevo\, Campo Madre de Dios y Entrada. 
URL:https://cordobacapitalcofrade.com/agenda/rosario-de-la-aurora-de-maria-santisima-de-regla/
LOCATION:Parroquia de Nuestra Señora del Carmen\, C. Rd. de Andújar\,23\, Córdoba\, España
CATEGORIES:Rosario
ATTACH;FMTTYPE=image/jpeg:https://cordobacapitalcofrade.com/wp-content/uploads/2024/10/397574637_18256224193201674_3602624033720404237_n.jpg
END:VEVENT
END:VCALENDAR