BEGIN:VCALENDAR
VERSION:2.0
PRODID:-//Agenda Cofrade 365 Días - ECPv6.3.7//NONSGML v1.0//EN
CALSCALE:GREGORIAN
METHOD:PUBLISH
X-WR-CALNAME:Agenda Cofrade 365 Días
X-ORIGINAL-URL:https://cordobacapitalcofrade.com
X-WR-CALDESC:Eventos para Agenda Cofrade 365 Días
REFRESH-INTERVAL;VALUE=DURATION:PT1H
X-Robots-Tag:noindex
X-PUBLISHED-TTL:PT1H
BEGIN:VTIMEZONE
TZID:UTC
BEGIN:STANDARD
TZOFFSETFROM:+0000
TZOFFSETTO:+0000
TZNAME:UTC
DTSTART:20250101T000000
END:STANDARD
END:VTIMEZONE
BEGIN:VEVENT
DTSTART;TZID=UTC:20250301T204500
DTEND;TZID=UTC:20250301T214500
DTSTAMP:20260425T041608
CREATED:20250225T133702Z
LAST-MODIFIED:20250225T133702Z
UID:5300-1740861900-1740865500@cordobacapitalcofrade.com
SUMMARY:Vía Crucis preparatorio de Cuaresma organizado por la Hermandad de Araceli
DESCRIPTION:Vía Crucis preparatorio de Cuaresma organizado por la Hermandad con motivo del DC Aniversario del Rezo del Beato Álvaro de Córdoba.
URL:https://cordobacapitalcofrade.com/agenda/via-crucis-preparatorio-de-cuaresma-organizado-por-la-hermandad-de-araceli/
LOCATION:Parroquia de Nuestra Señora de Araceli\, C. Ángel Ganivet\, 9\, Poniente Sur\, 14011 Córdoba\, Córdoba\, España
CATEGORIES:Vía Crucis
ATTACH;FMTTYPE=image/jpeg:https://cordobacapitalcofrade.com/wp-content/uploads/2025/02/b967a792-d90f-49aa-9141-a732b58bed06.jpg
END:VEVENT
END:VCALENDAR