BEGIN:VCALENDAR
VERSION:2.0
PRODID:-//Agenda Cofrade 365 Días - ECPv6.3.7//NONSGML v1.0//EN
CALSCALE:GREGORIAN
METHOD:PUBLISH
X-WR-CALNAME:Agenda Cofrade 365 Días
X-ORIGINAL-URL:https://cordobacapitalcofrade.com
X-WR-CALDESC:Eventos para Agenda Cofrade 365 Días
REFRESH-INTERVAL;VALUE=DURATION:PT1H
X-Robots-Tag:noindex
X-PUBLISHED-TTL:PT1H
BEGIN:VTIMEZONE
TZID:UTC
BEGIN:STANDARD
TZOFFSETFROM:+0000
TZOFFSETTO:+0000
TZNAME:UTC
DTSTART:20250101T000000
END:STANDARD
END:VTIMEZONE
BEGIN:VEVENT
DTSTART;TZID=UTC:20250305T210000
DTEND;TZID=UTC:20250305T223000
DTSTAMP:20260425T105222
CREATED:20250116T143231Z
LAST-MODIFIED:20250228T141158Z
UID:4969-1741208400-1741213800@cordobacapitalcofrade.com
SUMMARY:Solemne Vía Crucis de Nuestro Padre Jesús Humilde en su Coronación de Espinas
DESCRIPTION:Solemne Vía Crucis de Nuestro Padre Jesús Humilde en su Coronación de Espinas desde la Parroquia de San Antonio de Pádua con este recorrido: Salida (21:00 horas)\, Avenida Agrupación Córdoba\, Virgen de Linares\, Cruz Blanca\, Virgen de Linares\, Avenida Agrupación Córdoba y Entrada (22:30 horas). 
URL:https://cordobacapitalcofrade.com/agenda/solemne-via-crucis-de-nuestro-padre-jesus-humilde-en-su-coronacion-de-espinas/
LOCATION:Parroquia de San Antonio de Pádua\, Av. Agrupación Córdoba\, 11\, 14007 Córdoba\, Córdoba\, España
CATEGORIES:Muestras,Navidad,Vía Crucis
ATTACH;FMTTYPE=image/jpeg:https://cordobacapitalcofrade.com/wp-content/uploads/2025/01/427719552_707960548171313_93581580031744588_n.jpg
END:VEVENT
BEGIN:VEVENT
DTSTART;TZID=UTC:20250305T210000
DTEND;TZID=UTC:20250305T230000
DTSTAMP:20260425T105222
CREATED:20250226T164853Z
LAST-MODIFIED:20250226T164853Z
UID:5317-1741208400-1741215600@cordobacapitalcofrade.com
SUMMARY:Vía Crucis de Nuestro Padre Jesús de las Penas
DESCRIPTION:Vía Crucis de Nuestro Padre Jesús de las Penas desde la Parroquia de San Andrés Apóstol con este itinerario: Salida (21:00 horas)\, Hermanos López Diéguez\, Arroyo de San Andrés\, Buen Suceso\, Yerbabuena\, Jesús Nazareno\, Plaza de San Agustín\, Interior de la Iglesia Conventual de San Agustín\, Plaza de San Agustín\, Ocaña\, Isaac Peral\, Realejo\, Plaza de San Andrés y Entrada (23:00 horas). 
URL:https://cordobacapitalcofrade.com/agenda/via-crucis-de-nuestro-padre-jesus-de-las-penas-2/
LOCATION:Parroquia de San Andrés Apóstol\, Pl. San Andrés\, 0\, Córdoba\, España
CATEGORIES:Vía Crucis
ATTACH;FMTTYPE=image/jpeg:https://cordobacapitalcofrade.com/wp-content/uploads/2025/02/Via-Crucis-Penas-de-San-Andres-0105-min-scaled.jpg
END:VEVENT
END:VCALENDAR