BEGIN:VCALENDAR
VERSION:2.0
PRODID:-//Agenda Cofrade 365 Días - ECPv6.3.7//NONSGML v1.0//EN
CALSCALE:GREGORIAN
METHOD:PUBLISH
X-ORIGINAL-URL:https://cordobacapitalcofrade.com
X-WR-CALDESC:Eventos para Agenda Cofrade 365 Días
REFRESH-INTERVAL;VALUE=DURATION:PT1H
X-Robots-Tag:noindex
X-PUBLISHED-TTL:PT1H
BEGIN:VTIMEZONE
TZID:UTC
BEGIN:STANDARD
TZOFFSETFROM:+0000
TZOFFSETTO:+0000
TZNAME:UTC
DTSTART:20250101T000000
END:STANDARD
END:VTIMEZONE
BEGIN:VEVENT
DTSTART;TZID=UTC:20250329T210000
DTEND;TZID=UTC:20250329T223000
DTSTAMP:20260424T212238
CREATED:20250320T165122Z
LAST-MODIFIED:20250320T165122Z
UID:5715-1743282000-1743287400@cordobacapitalcofrade.com
SUMMARY:Vía Crucis del Santísimo Cristo de la Luz
DESCRIPTION:Vía Crucis del Santísimo Cristo de la Luz desde la Parroquia del Beato Álvaro de Córdoba siguiendo este itinerario: Salida (21:00 horas)\, Avenida de Guerrita\, Manuel Fuentes “Bocanegra”\, Pasaje Manuel Calero “Calerito”\, Avenida Lagartijo\, Avenida de Guerrita\, Manuel Fuentes “Bocanegra”\, Manuel Cano “El Pireo”\, José María Martorell\, Francisco González Panchón\, José Dámaso “Pepete”\, Avenida de Guerrita y Entrada. 
URL:https://cordobacapitalcofrade.com/agenda/via-crucis-del-santisimo-cristo-de-la-luz/
LOCATION:Parroquia del Beato Álvaro de Córdoba\, Av. Guerrita\, 23\, 14005 Córdoba\, Córdoba\, España
CATEGORIES:Vía Crucis
ATTACH;FMTTYPE=image/jpeg:https://cordobacapitalcofrade.com/wp-content/uploads/2025/03/luz_4.jpg
END:VEVENT
BEGIN:VEVENT
DTSTART;TZID=UTC:20250329T210000
DTEND;TZID=UTC:20250329T230000
DTSTAMP:20260424T212238
CREATED:20250319T140336Z
LAST-MODIFIED:20250324T162258Z
UID:5704-1743282000-1743289200@cordobacapitalcofrade.com
SUMMARY:Vía Crucis del Santísimo Cristo de la Confianza
DESCRIPTION:Vía Crucis del Santísimo Cristo de la Confianza desde la  desde la Parroquia de la Inmaculada Concepción y San Alberto Magno con este recorrido: Salida (21:00 horas)\, Diego Serrano\, Alcalde Sanz Noguer\, Plaza de la Palmera\, Felipe II\, Albéniz\, Vázquez Aroca\, Plaza Cisneros\, Infanta Doña María y Entrada (23:00 horas). Acompañará musicalmente el Quinteto de Viento «Gregis Mater» de Córdoba.
URL:https://cordobacapitalcofrade.com/agenda/via-crucis-del-santisimo-cristo-de-la-confianza/
LOCATION:Parroquia de la Inmaculada Concepción y San Alberto Magno\, C. San Diego de Alcalá\, 10\, Poniente Sur\, 14005 Córdoba\, Córdoba\, España
CATEGORIES:Vía Crucis
ATTACH;FMTTYPE=image/jpeg:https://cordobacapitalcofrade.com/wp-content/uploads/2025/03/481209112_630228096611294_3267102758271026542_n.jpg
END:VEVENT
END:VCALENDAR