BEGIN:VCALENDAR
VERSION:2.0
PRODID:-//Agenda Cofrade 365 Días - ECPv6.3.7//NONSGML v1.0//EN
CALSCALE:GREGORIAN
METHOD:PUBLISH
X-ORIGINAL-URL:https://cordobacapitalcofrade.com
X-WR-CALDESC:Eventos para Agenda Cofrade 365 Días
REFRESH-INTERVAL;VALUE=DURATION:PT1H
X-Robots-Tag:noindex
X-PUBLISHED-TTL:PT1H
BEGIN:VTIMEZONE
TZID:UTC
BEGIN:STANDARD
TZOFFSETFROM:+0000
TZOFFSETTO:+0000
TZNAME:UTC
DTSTART:20250101T000000
END:STANDARD
END:VTIMEZONE
BEGIN:VEVENT
DTSTART;TZID=UTC:20250406T183000
DTEND;TZID=UTC:20250406T210000
DTSTAMP:20260425T132721
CREATED:20250305T171002Z
LAST-MODIFIED:20250305T171002Z
UID:5440-1743964200-1743973200@cordobacapitalcofrade.com
SUMMARY:Meditación ante Nuestro Señor de los Reyes y Vía Crucis
DESCRIPTION:Meditación ante Nuestro Señor de los Reyes realizado por D. Andrés Espejo Olivares\, a las 18:30 horas en la Parroquia de San José y Espíritu Santo. Posteriormente se celebrará el Vía Crucis con el Señor por el interior de la Parroquia finalizando con la subida al paso procesional. Intervendrá musicalmente la Capilla Musical «Ars Sacra» de Sevilla.
URL:https://cordobacapitalcofrade.com/agenda/meditacion-ante-nuestro-senor-de-los-reyes-y-via-crucis/
LOCATION:Parroquia de San José y Espíritu Santo\, Pl. de Santa Teresa\, 1\, Córdoba\, España
CATEGORIES:Cultos,Vía Crucis
ATTACH;FMTTYPE=image/jpeg:https://cordobacapitalcofrade.com/wp-content/uploads/2025/03/430050190_784743953678224_1118116853303432710_n.jpg
END:VEVENT
BEGIN:VEVENT
DTSTART;TZID=UTC:20250406T203000
DTEND;TZID=UTC:20250406T213000
DTSTAMP:20260425T132721
CREATED:20250322T141925Z
LAST-MODIFIED:20250322T141925Z
UID:5730-1743971400-1743975000@cordobacapitalcofrade.com
SUMMARY:Vía Crucis de Nuestro Señor Jesucristo del Santo Sepulcro
DESCRIPTION:Vía Crucis de Nuestro Señor Jesucristo del Santo Sepulcro\, a las 20:30 horas en el interior de la Parroquia del Salvador y Santo Domingo de Silos (Compañía).
URL:https://cordobacapitalcofrade.com/agenda/via-crucis-de-nuestro-senor-jesucristo-del-santo-sepulcro/
LOCATION:Parroquia Salvador y Santo Domingo de Silos (Compañía)\, Pl. de la Compañía\, 7\, Córdoba\, España
CATEGORIES:Vía Crucis
ATTACH;FMTTYPE=image/jpeg:https://cordobacapitalcofrade.com/wp-content/uploads/2025/03/ACH70047-ORF_DxO_DeepPRIMEXD-min-scaled.jpg
END:VEVENT
END:VCALENDAR