BEGIN:VCALENDAR
VERSION:2.0
PRODID:-//Agenda Cofrade 365 Días - ECPv6.3.7//NONSGML v1.0//EN
CALSCALE:GREGORIAN
METHOD:PUBLISH
X-ORIGINAL-URL:https://cordobacapitalcofrade.com
X-WR-CALDESC:Eventos para Agenda Cofrade 365 Días
REFRESH-INTERVAL;VALUE=DURATION:PT1H
X-Robots-Tag:noindex
X-PUBLISHED-TTL:PT1H
BEGIN:VTIMEZONE
TZID:UTC
BEGIN:STANDARD
TZOFFSETFROM:+0000
TZOFFSETTO:+0000
TZNAME:UTC
DTSTART:20250101T000000
END:STANDARD
END:VTIMEZONE
BEGIN:VEVENT
DTSTART;TZID=UTC:20250411T193000
DTEND;TZID=UTC:20250412T003000
DTSTAMP:20260424T184556
CREATED:20250410T083159Z
LAST-MODIFIED:20250410T083159Z
UID:5887-1744399800-1744417800@cordobacapitalcofrade.com
SUMMARY:Solemne Vía Crucis del Santísimo Cristo de la Providencia
DESCRIPTION:Solemne Vía Crucis del Santísimo Cristo de la Providencia desde la Parroquia de la Trinidad con el siguiente recorrido: \nIDA: Salida (19:30 horas)\, Lope de Hoces (Residencia de Mayores de la Trinidad)\, Avenida de la Victoria (20:30 horas)\, Cruz Roja\, Doctor Fleming\, Campo de los Santos Mártires\, Amador de los Ríos\, Torrijos (21:15 horas)\, Cardenal Herreros \, Puerta del Perdón y Entrada a la Santa Iglesia Catedral (21:30 horas).\nVUELTA: Salida de la Santa Iglesia Catedral\, Cardenal Herrero \, Judería\, Deanes (22:30 horas)\, Conde y Luque\, Plaza Agrupación de Cofradías\, Blanco Belmonte\, Barroso (23:30 horas)\, Plaza de Sam Juan (00:00 horas)\, Leopoldo de Austria\, Valladares\, Tesoro\, Plaza de la Trinidad y Entrada (00:30 horas).  \nEl acompañamiento musical correrá a cargo de la Banda de Música «María Santísima de la Esperanza» de Córdoba. 
URL:https://cordobacapitalcofrade.com/agenda/solemne-via-crucis-del-santisimo-cristo-de-la-providencia-2/
LOCATION:Parroquia de la Trinidad\, Plaza de la Trinidad\, Córdoba\, España
CATEGORIES:Vía Crucis
ATTACH;FMTTYPE=image/webp:https://cordobacapitalcofrade.com/wp-content/uploads/2025/04/via-crucis-providencia-ssanta19-1.webp
END:VEVENT
END:VCALENDAR