BEGIN:VCALENDAR
VERSION:2.0
PRODID:-//Agenda Cofrade 365 Días - ECPv6.3.7//NONSGML v1.0//EN
CALSCALE:GREGORIAN
METHOD:PUBLISH
X-ORIGINAL-URL:https://cordobacapitalcofrade.com
X-WR-CALDESC:Eventos para Agenda Cofrade 365 Días
REFRESH-INTERVAL;VALUE=DURATION:PT1H
X-Robots-Tag:noindex
X-PUBLISHED-TTL:PT1H
BEGIN:VTIMEZONE
TZID:UTC
BEGIN:STANDARD
TZOFFSETFROM:+0000
TZOFFSETTO:+0000
TZNAME:UTC
DTSTART:20240101T000000
END:STANDARD
END:VTIMEZONE
BEGIN:VEVENT
DTSTART;TZID=UTC:20241214T113000
DTEND;TZID=UTC:20241214T210000
DTSTAMP:20260422T032003
CREATED:20241210T171921Z
LAST-MODIFIED:20241210T171921Z
UID:4561-1734175800-1734210000@cordobacapitalcofrade.com
SUMMARY:Zambomba en la Hermandad de la Estrella
DESCRIPTION:Zambomba en la Hermandad de la Estrella con concursos\, pasacalles de la Banda de la Redención (16:15 horas) y la Banda de Música de la Estrella (13:30 horas) entre otras actuaciones\, desde las 11:30 horas en la puerta de la Casa de Hermandad en la C/ Joaquín Sama Naharro\, 26.
URL:https://cordobacapitalcofrade.com/agenda/zambomba-en-la-hermandad-de-la-estrella/
LOCATION:Casa de Hermandad de la Estrella\, C. Joaquín Sama Naharro\, 26\, Noroeste\, 14006 Córdoba\, Córdoba\, España
CATEGORIES:zambomba
ATTACH;FMTTYPE=image/jpeg:https://cordobacapitalcofrade.com/wp-content/uploads/2024/12/469026203_981510167353165_2890181830721774059_n.jpg
END:VEVENT
BEGIN:VEVENT
DTSTART;TZID=UTC:20241214T140000
DTEND;TZID=UTC:20241214T210000
DTSTAMP:20260422T032003
CREATED:20241210T172039Z
LAST-MODIFIED:20241210T172039Z
UID:4564-1734184800-1734210000@cordobacapitalcofrade.com
SUMMARY:Zambomba organizada por la Hermandad de la Paz
DESCRIPTION:Zambomba organizada por la Hermandad desde las 14:00 horas en la Casa de Hermandad.
URL:https://cordobacapitalcofrade.com/agenda/zambomba-organizada-por-la-hermandad-de-la-paz/
LOCATION:Casa Hermandad de la Paz y Esperanza\, Nuestra Señora de la Paz y Esperanza\, 4\, Córdoba\, Córdoba\, 14001\, España
CATEGORIES:zambomba
ATTACH;FMTTYPE=image/jpeg:https://cordobacapitalcofrade.com/wp-content/uploads/2024/12/469223166_914187514179802_4202381958774435801_n.jpg
END:VEVENT
BEGIN:VEVENT
DTSTART;TZID=UTC:20241220T110000
DTEND;TZID=UTC:20241221T200000
DTSTAMP:20260422T032003
CREATED:20241216T140712Z
LAST-MODIFIED:20241216T140712Z
UID:4616-1734692400-1734811200@cordobacapitalcofrade.com
SUMMARY:Zambomba Navideña organizada por la Hermandad de la Santa Faz
DESCRIPTION:Zambomba Navideña organizada por la Hermandad de 11:00 a 20:00 horas en la Plaza de la Trinidad.
URL:https://cordobacapitalcofrade.com/agenda/zambomba-navidena-organizada-por-la-hermandad-de-la-santa-faz/
LOCATION:Plaza de la Trinidad\, Plaza de la Trinidad\, Centro\, 14003 Córdoba\, Córdoba\, España
CATEGORIES:zambomba
ATTACH;FMTTYPE=image/jpeg:https://cordobacapitalcofrade.com/wp-content/uploads/2024/12/469710201_985988986896006_4887181552141701268_n.jpg
END:VEVENT
BEGIN:VEVENT
DTSTART;TZID=UTC:20241221T120000
DTEND;TZID=UTC:20241221T200000
DTSTAMP:20260422T032003
CREATED:20241216T140528Z
LAST-MODIFIED:20241216T140528Z
UID:4613-1734782400-1734811200@cordobacapitalcofrade.com
SUMMARY:Navidad cordobesa organizada por la Pro Hdad. de la Salud
DESCRIPTION:Navidad cordobesa con actuaciones y actividades navideñas desde las 12:00 hasta las 20:00 horas en la Plaza de la Magdalena.
URL:https://cordobacapitalcofrade.com/agenda/navidad-cordobesa-organizada-por-la-pro-hdad-de-la-salud/
LOCATION:Plaza de la Magdalena\, Pl. de la Magdalena\, 8\, Centro\, 14002 Córdoba\, Córdoba\, España
CATEGORIES:zambomba
ATTACH;FMTTYPE=image/jpeg:https://cordobacapitalcofrade.com/wp-content/uploads/2024/12/468891682_18305443924201674_3923629562484755175_n.jpg
END:VEVENT
BEGIN:VEVENT
DTSTART;TZID=UTC:20241228T130000
DTEND;TZID=UTC:20241228T200000
DTSTAMP:20260422T032003
CREATED:20241223T143655Z
LAST-MODIFIED:20241223T143655Z
UID:4721-1735390800-1735416000@cordobacapitalcofrade.com
SUMMARY:Zambomba Navideña organizada por la Hermandad del Socorro
DESCRIPTION:Zambomba Navideña organizada por la Hermandad\, desde las 13:00 horas en la Plaza del Socorro.
URL:https://cordobacapitalcofrade.com/agenda/zambomba-navidena-organizada-por-la-hermandad-del-socorro/
LOCATION:Plaza del Socorro\, Plaza del Socorro\, 2\, Córdoba\, Córdoba\, 14002\, España
CATEGORIES:zambomba
ATTACH;FMTTYPE=image/jpeg:https://cordobacapitalcofrade.com/wp-content/uploads/2024/12/469681352_18454247299067612_7727926247624869703_n.jpg
END:VEVENT
END:VCALENDAR