BEGIN:VCALENDAR
VERSION:2.0
PRODID:-//Agenda Cofrade 365 Días - ECPv6.3.7//NONSGML v1.0//EN
CALSCALE:GREGORIAN
METHOD:PUBLISH
X-WR-CALNAME:Agenda Cofrade 365 Días
X-ORIGINAL-URL:https://cordobacapitalcofrade.com
X-WR-CALDESC:Eventos para Agenda Cofrade 365 Días
REFRESH-INTERVAL;VALUE=DURATION:PT1H
X-Robots-Tag:noindex
X-PUBLISHED-TTL:PT1H
BEGIN:VTIMEZONE
TZID:UTC
BEGIN:STANDARD
TZOFFSETFROM:+0000
TZOFFSETTO:+0000
TZNAME:UTC
DTSTART:20250101T000000
END:STANDARD
END:VTIMEZONE
BEGIN:VEVENT
DTSTART;TZID=UTC:20250406T120000
DTEND;TZID=UTC:20250406T143000
DTSTAMP:20260420T001057
CREATED:20250331T160521Z
LAST-MODIFIED:20250331T160521Z
UID:5836-1743940800-1743949800@cordobacapitalcofrade.com
SUMMARY:Pregón de la Semana Santa de Córdoba 2025
DESCRIPTION:Pregón de la Semana Santa de Córdoba 2025 a cargo de D. Santiago Muñoz Machado\, Director de Real Academia Española (RAE) y presidente de la Asociación de Academias de la Lengua Española\, siendo presentado por D. Manuel Torralbo Rodríguez\, Rector de la Universidad de Córdoba\, a las 12:00 horas en el Gran Teatro de Córdoba. Acompañará musicalmente la Banda de Música «María Santísima de la Esperanza» de Córdoba y el Coro «Cantábile» de Córdoba.
URL:https://cordobacapitalcofrade.com/agenda/pregon-de-la-semana-santa-de-cordoba-2025/
LOCATION:Gran Teatro de Córdoba\, Av. del Gran Capitán\, 3\, Centro\, 14008 Córdoba\, Córdoba\, España
CATEGORIES:Pregón
ATTACH;FMTTYPE=image/jpeg:https://cordobacapitalcofrade.com/wp-content/uploads/2025/03/487940205_694789943084971_7381115558796460065_n.jpg
END:VEVENT
BEGIN:VEVENT
DTSTART;TZID=UTC:20250412T210000
DTEND;TZID=UTC:20250412T223000
DTSTAMP:20260420T001057
CREATED:20250410T112326Z
LAST-MODIFIED:20250410T112326Z
UID:5932-1744491600-1744497000@cordobacapitalcofrade.com
SUMMARY:Exaltación a la Saeta. Memorial María Zamorano
DESCRIPTION:Exaltación a la Saeta. Memorial María Zamorano a cargo de D. Antonio Márquez Flores\, a las 21:00 horas en la Plaza de Capuchinos.
URL:https://cordobacapitalcofrade.com/agenda/exaltacion-a-la-saeta-memorial-maria-zamorano/
LOCATION:Plaza de Capuchinos\, Cordoba\, Cordoba\, Cordoba\, 14001\, España
CATEGORIES:Exaltación
ATTACH;FMTTYPE=image/png:https://cordobacapitalcofrade.com/wp-content/uploads/2025/04/EXALTACION-SAETA-2023-2-1086x1536_edit_79374958594136.png
END:VEVENT
BEGIN:VEVENT
DTSTART;TZID=UTC:20250423T203000
DTEND;TZID=UTC:20250423T213000
DTSTAMP:20260420T001057
CREATED:20250422T124209Z
LAST-MODIFIED:20250422T124209Z
UID:5939-1745440200-1745443800@cordobacapitalcofrade.com
SUMMARY:Pascua de Resurrección 2025
DESCRIPTION:Pascua de Resurrección a las 20:30 horas en la Parroquia de Santa Marina de Aguas Santas.
URL:https://cordobacapitalcofrade.com/agenda/pascua-de-resurreccion-2025/
LOCATION:Parroquia de Santa Marina de Aguas Santas\, Pl. de Sta. Marina\, 6\, 14001 Córdoba\, Córdoba\, España
CATEGORIES:Cultos
ATTACH;FMTTYPE=image/webp:https://cordobacapitalcofrade.com/wp-content/uploads/2025/04/procesion-resucitado-cordoba27_20240331110243-U85801584803qyA-1200x840@diario_abc.webp
END:VEVENT
BEGIN:VEVENT
DTSTART;TZID=UTC:20250427T120000
DTEND;TZID=UTC:20250427T143000
DTSTAMP:20260420T001057
CREATED:20250422T130425Z
LAST-MODIFIED:20250422T130425Z
UID:5964-1745755200-1745764200@cordobacapitalcofrade.com
SUMMARY:Pregón de Glorias 2025 y presentación del Cartel de las Glorias 2025
DESCRIPTION:Pregón de Glorias 2025 a cargo de D. Francisco de Asís Triviño Tarradas y presentación del Cartel de las Glorias 2025 obra de D. Antoine Cas\, a las 12:00 en el Palacio de Congresos. Intervendrá musicalmente la Banda de Música «María Santísima de la Esperanza» de Córdoba.
URL:https://cordobacapitalcofrade.com/agenda/pregon-de-glorias-2025-y-presentacion-del-cartel-de-las-glorias-2025/
LOCATION:Palacio de Congresos\, C. Torrijos\, 10\, Centro\, 14003 Córdoba\, Córdoba\, Spain
CATEGORIES:Pregón,Presentación
END:VEVENT
END:VCALENDAR