BEGIN:VCALENDAR
VERSION:2.0
PRODID:-//Agenda Cofrade 365 Días - ECPv6.3.7//NONSGML v1.0//EN
CALSCALE:GREGORIAN
METHOD:PUBLISH
X-ORIGINAL-URL:https://cordobacapitalcofrade.com
X-WR-CALDESC:Eventos para Agenda Cofrade 365 Días
REFRESH-INTERVAL;VALUE=DURATION:PT1H
X-Robots-Tag:noindex
X-PUBLISHED-TTL:PT1H
BEGIN:VTIMEZONE
TZID:UTC
BEGIN:STANDARD
TZOFFSETFROM:+0000
TZOFFSETTO:+0000
TZNAME:UTC
DTSTART:20250101T000000
END:STANDARD
END:VTIMEZONE
BEGIN:VEVENT
DTSTART;TZID=UTC:20250330T120000
DTEND;TZID=UTC:20250330T133000
DTSTAMP:20260423T191648
CREATED:20250322T142636Z
LAST-MODIFIED:20250322T142636Z
UID:5733-1743336000-1743341400@cordobacapitalcofrade.com
SUMMARY:Concierto Extraordinario de Cuaresma
DESCRIPTION:Concierto Extraordinario de Cuaresma «La música de Dios para Córdoba» una obra de D. Manuel Roldán Roldán a las 12:00 horas en el Gran Teatro de Córdoba. Las bandas participantes serán la Agrupación Musical «Cristo de Gracia» de Córdoba y la Agrupación Musical del El Carpio (Córdoba).
URL:https://cordobacapitalcofrade.com/agenda/concierto-extraordinario-de-cuaresma/
LOCATION:Gran Teatro de Córdoba\, Av. del Gran Capitán\, 3\, Centro\, 14008 Córdoba\, Córdoba\, España
CATEGORIES:Conciertos
ATTACH;FMTTYPE=image/jpeg:https://cordobacapitalcofrade.com/wp-content/uploads/2025/03/483367113_680089124555053_5067287529865814578_n.jpg
END:VEVENT
END:VCALENDAR