BEGIN:VCALENDAR
VERSION:2.0
PRODID:-//Agenda Cofrade 365 Días - ECPv6.3.7//NONSGML v1.0//EN
CALSCALE:GREGORIAN
METHOD:PUBLISH
X-WR-CALNAME:Agenda Cofrade 365 Días
X-ORIGINAL-URL:https://cordobacapitalcofrade.com
X-WR-CALDESC:Eventos para Agenda Cofrade 365 Días
REFRESH-INTERVAL;VALUE=DURATION:PT1H
X-Robots-Tag:noindex
X-PUBLISHED-TTL:PT1H
BEGIN:VTIMEZONE
TZID:UTC
BEGIN:STANDARD
TZOFFSETFROM:+0000
TZOFFSETTO:+0000
TZNAME:UTC
DTSTART:20240101T000000
END:STANDARD
END:VTIMEZONE
BEGIN:VEVENT
DTSTART;TZID=UTC:20241130T180000
DTEND;TZID=UTC:20241130T190000
DTSTAMP:20260420T052334
CREATED:20241113T175956Z
LAST-MODIFIED:20241113T175956Z
UID:4061-1732989600-1732993200@cordobacapitalcofrade.com
SUMMARY:II Concierto solidario "El Principio de un sueño"
DESCRIPTION:II Concierto solidario «El Principio de un sueño» a beneficio de Adrián\, a cargo de la Agrupación Musical «Cristo de Gracia» de Córdoba\, a las 18:00 horas en el Conservatorio Músico Ziryab de Córdoba.
URL:https://cordobacapitalcofrade.com/agenda/ii-concierto-solidario-el-principio-de-un-sueno/
LOCATION:Conservatorio «Músico Ziryab»\, Córdoba\, España
CATEGORIES:Conciertos
ATTACH;FMTTYPE=image/jpeg:https://cordobacapitalcofrade.com/wp-content/uploads/2024/11/466907988_957392719757993_454785732310107961_n.jpg
END:VEVENT
END:VCALENDAR