BEGIN:VCALENDAR
VERSION:2.0
PRODID:-//Agenda Cofrade 365 Días - ECPv6.3.7//NONSGML v1.0//EN
CALSCALE:GREGORIAN
METHOD:PUBLISH
X-ORIGINAL-URL:https://cordobacapitalcofrade.com
X-WR-CALDESC:Eventos para Agenda Cofrade 365 Días
REFRESH-INTERVAL;VALUE=DURATION:PT1H
X-Robots-Tag:noindex
X-PUBLISHED-TTL:PT1H
BEGIN:VTIMEZONE
TZID:UTC
BEGIN:STANDARD
TZOFFSETFROM:+0000
TZOFFSETTO:+0000
TZNAME:UTC
DTSTART:20240101T000000
END:STANDARD
END:VTIMEZONE
BEGIN:VEVENT
DTSTART;TZID=UTC:20240530T190000
DTEND;TZID=UTC:20240601T203000
DTSTAMP:20260425T141442
CREATED:20240527T131111Z
LAST-MODIFIED:20240527T131111Z
UID:3070-1717095600-1717273800@cordobacapitalcofrade.com
SUMMARY:Solemne Triduo en honor del Santísimo Sacramento del Cabildo Catedral de Córdoba
DESCRIPTION:Solemne Triduo en honor del Santísimo Sacramento a las 20:00 horas en la Santa Iglesia Catedral. Previamente a las 19:00 horas Exposición del Santísimo con Meditación Musical a cargo de la Orquesta y Coro de Cámara de la Catedral de Córdoba.
URL:https://cordobacapitalcofrade.com/agenda/solemne-triduo-en-honor-del-santisimo-sacramento-del-cabildo-catedral-de-cordoba/
LOCATION:Santa Iglesia Catedral de Córdoba\, C. Cardenal Herrero\, 1\, Córdoba\, España
CATEGORIES:Cultos
ATTACH;FMTTYPE=image/jpeg:https://cordobacapitalcofrade.com/wp-content/uploads/2024/05/441151460_466909082661621_3995522217689326420_n.jpg
END:VEVENT
END:VCALENDAR