BEGIN:VCALENDAR
VERSION:2.0
PRODID:-//Agenda Cofrade 365 Días - ECPv6.3.7//NONSGML v1.0//EN
CALSCALE:GREGORIAN
METHOD:PUBLISH
X-ORIGINAL-URL:https://cordobacapitalcofrade.com
X-WR-CALDESC:Eventos para Agenda Cofrade 365 Días
REFRESH-INTERVAL;VALUE=DURATION:PT1H
X-Robots-Tag:noindex
X-PUBLISHED-TTL:PT1H
BEGIN:VTIMEZONE
TZID:UTC
BEGIN:STANDARD
TZOFFSETFROM:+0000
TZOFFSETTO:+0000
TZNAME:UTC
DTSTART:20240101T000000
END:STANDARD
END:VTIMEZONE
BEGIN:VEVENT
DTSTART;TZID=UTC:20240222T210000
DTEND;TZID=UTC:20240223T000000
DTSTAMP:20260423T214615
CREATED:20231230T135221Z
LAST-MODIFIED:20231230T135228Z
UID:1066-1708635600-1708646400@cordobacapitalcofrade.com
SUMMARY:3er Ensayo de costaleros del Santísimo Cristo de la Providencia
DESCRIPTION:3er Ensayo de costaleros del Santísimo Cristo de la Providencia a las 21:00 horas desde el Local de ensayos ubicado en la Calle González López\, 1.
URL:https://cordobacapitalcofrade.com/agenda/3er-ensayo-de-costaleros-del-santisimo-cristo-de-la-providencia/
LOCATION:Local de Ensayos Parroquia de la Trinidad\, C. González López\, 1\, Centro\, 14003 Córdoba\, Córdoba\, España
CATEGORIES:Ensayos Costaleros
ATTACH;FMTTYPE=image/jpeg:https://cordobacapitalcofrade.com/wp-content/uploads/2023/12/via-crucis-providencia-ssanta22-2.jpg
END:VEVENT
END:VCALENDAR