BEGIN:VCALENDAR
VERSION:2.0
PRODID:-//Agenda Cofrade 365 Días - ECPv6.3.7//NONSGML v1.0//EN
CALSCALE:GREGORIAN
METHOD:PUBLISH
X-WR-CALNAME:Agenda Cofrade 365 Días
X-ORIGINAL-URL:https://cordobacapitalcofrade.com
X-WR-CALDESC:Eventos para Agenda Cofrade 365 Días
REFRESH-INTERVAL;VALUE=DURATION:PT1H
X-Robots-Tag:noindex
X-PUBLISHED-TTL:PT1H
BEGIN:VTIMEZONE
TZID:UTC
BEGIN:STANDARD
TZOFFSETFROM:+0000
TZOFFSETTO:+0000
TZNAME:UTC
DTSTART:20250101T000000
END:STANDARD
END:VTIMEZONE
BEGIN:VEVENT
DTSTART;TZID=UTC:20251108T180000
DTEND;TZID=UTC:20251108T204500
DTSTAMP:20260425T142853
CREATED:20250924T201405Z
LAST-MODIFIED:20251103T152641Z
UID:7107-1762624800-1762634700@cordobacapitalcofrade.com
SUMMARY:Procesión de María Santísima de la Victoria
DESCRIPTION:Procesión de María Santísima de la Victoria desde la Parroquia de Santa Beatríz de Silva con este recorrido: Salida (18:00 horas)\, Avenida de la Paz\, Glorieta Venida de Mirasierra\, Ingeniero Alfonso de Churruca\, Ingeniero Lino Arizqueta\, Doctor Ángel Castiñeira\, Paseo de los Verdiales\, Pasaje Candelaria Heredia (Centro Cívico)\, Avenida Miralbaida\, María la Talegona\, Plaza Albolafia\, Parroquia del Inmaculado Corazón de María (19:15 horas)\, Avenida Miralbaida\, María la Talegona\, Barítono José María Aguilar Blanco\, Ingeniero Alfonso de Churruca\, Glorieta\, Avenida de la Paz y Entrada (20:45 horas). Los acompañamientos musicales correrá a cargo de la Banda de Música «Cristo del Amor» de Córdoba y del Quinteto de Viento «Gregis Mater» de Córdoba.
URL:https://cordobacapitalcofrade.com/agenda/rosario-vespertino-de-maria-santisima-de-la-victoria-2/
LOCATION:Parroquia Sta. Beatriz de Silva\, Pasaje Mercado\, 3\, Córdoba\, Córdoba\, 14005\, España
CATEGORIES:Rosario
ATTACH;FMTTYPE=image/jpeg:https://cordobacapitalcofrade.com/wp-content/uploads/2025/09/IMG_20211023_183116.jpg
END:VEVENT
BEGIN:VEVENT
DTSTART;TZID=UTC:20251129T100000
DTEND;TZID=UTC:20251130T200000
DTSTAMP:20260425T142853
CREATED:20251113T162423Z
LAST-MODIFIED:20251113T162423Z
UID:7522-1764410400-1764532800@cordobacapitalcofrade.com
SUMMARY:Besamanos de María Santísima de la Victoria
DESCRIPTION:Besamanos de María Santísima de la Victoria en horario de 10:00 a 13:00 horas y de 16:30 a 20:00 horas en la Parroquia de Santa Beatríz de Silva. Durante estos días habrá la campaña «Un beso\, un litro» recogida de litros de leche\, aceite\, alimentos y donativos destinados a Cáritas Parroquial.
URL:https://cordobacapitalcofrade.com/agenda/besamanos-de-maria-santisima-de-la-victoria-3/
LOCATION:Parroquia Sta. Beatriz de Silva\, Pasaje Mercado\, 3\, Córdoba\, Córdoba\, 14005\, España
CATEGORIES:Cultos
ATTACH;FMTTYPE=image/jpeg:https://cordobacapitalcofrade.com/wp-content/uploads/2025/11/Besamanos-Victoria-0067-scaled.jpg
END:VEVENT
END:VCALENDAR