BEGIN:VCALENDAR
VERSION:2.0
PRODID:-//Agenda Cofrade 365 Días - ECPv6.3.7//NONSGML v1.0//EN
CALSCALE:GREGORIAN
METHOD:PUBLISH
X-ORIGINAL-URL:https://cordobacapitalcofrade.com
X-WR-CALDESC:Eventos para Agenda Cofrade 365 Días
REFRESH-INTERVAL;VALUE=DURATION:PT1H
X-Robots-Tag:noindex
X-PUBLISHED-TTL:PT1H
BEGIN:VTIMEZONE
TZID:UTC
BEGIN:STANDARD
TZOFFSETFROM:+0000
TZOFFSETTO:+0000
TZNAME:UTC
DTSTART:20250101T000000
END:STANDARD
END:VTIMEZONE
BEGIN:VEVENT
DTSTART;TZID=UTC:20250328T210000
DTEND;TZID=UTC:20250328T230000
DTSTAMP:20260424T224214
CREATED:20250320T155059Z
LAST-MODIFIED:20250320T155059Z
UID:5712-1743195600-1743202800@cordobacapitalcofrade.com
SUMMARY:Vía Crucis del Santísimo Cristo de Fervor y Plegarias
DESCRIPTION:Vía Crucis del Santísimo Cristo de Fervor y Plegarias desde la Parroquia de San Juan de Ávila con este recorrido: Salida (21:00 horas)\, Cinco Caballeros\, Sagunto\, Doctor Manuel Villegas\, Escritor López de Cárdenas\, Poeta Solís\, San Acisclo\, Julio César\, Estrella Altair\, Paseo Avenida Agrupación Córdoba\, Plaza Escritor Peña Aguado\, Damián de Castro\, Hermanos Luján\, Escritor Cristobal de Mesa\, Doctor Manuel Villegas\, Platero Lucas Valdes\, Pintor Pedro Romana\, Escritor López de Cárdenas\, Escritor Rafael Pavón y Entrada (23:00 horas). 
URL:https://cordobacapitalcofrade.com/agenda/via-crucis-del-santisimo-cristo-de-fervor-y-plegarias/
LOCATION:Parroquia de San Juan de Ávila\, C. del Escritor Rafael Pavón\, 6\, Levante\, 14007 Córdoba\, Córdoba\, España
CATEGORIES:Vía Crucis
ATTACH;FMTTYPE=image/jpeg:https://cordobacapitalcofrade.com/wp-content/uploads/2025/03/472984204_17887373958179052_417830463842334734_n.jpg
END:VEVENT
END:VCALENDAR