BEGIN:VCALENDAR
VERSION:2.0
PRODID:-//Agenda Cofrade 365 Días - ECPv6.3.7//NONSGML v1.0//EN
CALSCALE:GREGORIAN
METHOD:PUBLISH
X-ORIGINAL-URL:https://cordobacapitalcofrade.com
X-WR-CALDESC:Eventos para Agenda Cofrade 365 Días
REFRESH-INTERVAL;VALUE=DURATION:PT1H
X-Robots-Tag:noindex
X-PUBLISHED-TTL:PT1H
BEGIN:VTIMEZONE
TZID:UTC
BEGIN:STANDARD
TZOFFSETFROM:+0000
TZOFFSETTO:+0000
TZNAME:UTC
DTSTART:20250101T000000
END:STANDARD
END:VTIMEZONE
BEGIN:VEVENT
DTSTART;TZID=UTC:20250920T190000
DTEND;TZID=UTC:20250920T220000
DTSTAMP:20260425T112647
CREATED:20250826T130133Z
LAST-MODIFIED:20250826T130133Z
UID:6780-1758394800-1758405600@cordobacapitalcofrade.com
SUMMARY:Procesión de Nuestra Señora de Araceli
DESCRIPTION:Procesión de Nuestra Señora de Araceli desde la Parroquia de Nuestra Señora de Araceli siguiendo este recorrido: Salida (19:00 horas)\, Ángel Ganivet\,\, Avenida de los Mozárabes Jardines de la Agricultura\, Ronda de los Tejares\, Alonso de Burgos\, Plaza del Escudo\, Plaza San Ignacio de Loyola\, Menéndez Pelayo\, José Zorrilla\, Concepción\, Conde de Gondomar\, Plaza de las Tendillas\, Jesús y María\, Juan Valera\, Santa Victoria\, Plaza de la Compañía y Entrada en la Parroquia del Salvador y Santo Domingo de Silos (Compañía). Los sones musicales serán los de la Banda de Cornetas y Tambores «Nuestra Señora de la Fuensanta» de Córdoba.
URL:https://cordobacapitalcofrade.com/agenda/procesion-de-nuestra-senora-de-araceli-2/
LOCATION:Parroquia de Nuestra Señora de Araceli\, C. Ángel Ganivet\, 9\, Poniente Sur\, 14011 Córdoba\, Córdoba\, España
CATEGORIES:Procesión
ATTACH;FMTTYPE=image/jpeg:https://cordobacapitalcofrade.com/wp-content/uploads/2025/08/Procesion-Extraordinaria-Araceli-0237-min-scaled.jpg
END:VEVENT
END:VCALENDAR