BEGIN:VCALENDAR
VERSION:2.0
PRODID:-//Agenda Cofrade 365 Días - ECPv6.3.7//NONSGML v1.0//EN
CALSCALE:GREGORIAN
METHOD:PUBLISH
X-WR-CALNAME:Agenda Cofrade 365 Días
X-ORIGINAL-URL:https://cordobacapitalcofrade.com
X-WR-CALDESC:Eventos para Agenda Cofrade 365 Días
REFRESH-INTERVAL;VALUE=DURATION:PT1H
X-Robots-Tag:noindex
X-PUBLISHED-TTL:PT1H
BEGIN:VTIMEZONE
TZID:UTC
BEGIN:STANDARD
TZOFFSETFROM:+0000
TZOFFSETTO:+0000
TZNAME:UTC
DTSTART:20240101T000000
END:STANDARD
END:VTIMEZONE
BEGIN:VEVENT
DTSTART;TZID=UTC:20240426T120000
DTEND;TZID=UTC:20240501T020000
DTSTAMP:20260421T214513
CREATED:20240417T131536Z
LAST-MODIFIED:20240417T131745Z
UID:2893-1714132800-1714528800@cordobacapitalcofrade.com
SUMMARY:Cruz de Mayo de la Hermandad de Jesús Caído
DESCRIPTION:Cruz de Mayo de la Hermandad de Jesús Caído en la Plaza Flor del Olivo del 26 de abril hasta el 1 de mayo en horario de 12:00 a 02:00 horas. El día 1 será hasta las 16:30 horas.
URL:https://cordobacapitalcofrade.com/agenda/cruz-de-mayo-de-la-hermandad-de-jesus-caido/
LOCATION:Plaza Flor del Olivo\, C. Cronista Salcedo Hierro\, 6\, Centro\, 14001 Córdoba\, Córdoba\, España
CATEGORIES:Cruces de Mayo
ATTACH;FMTTYPE=image/jpeg:https://cordobacapitalcofrade.com/wp-content/uploads/2024/04/Cruz-de-Mayo-Hermandad-del-Caido-0018-scaled.jpg
END:VEVENT
END:VCALENDAR