BEGIN:VCALENDAR
VERSION:2.0
PRODID:-//Agenda Cofrade 365 Días - ECPv6.3.7//NONSGML v1.0//EN
CALSCALE:GREGORIAN
METHOD:PUBLISH
X-ORIGINAL-URL:https://cordobacapitalcofrade.com
X-WR-CALDESC:Eventos para Agenda Cofrade 365 Días
REFRESH-INTERVAL;VALUE=DURATION:PT1H
X-Robots-Tag:noindex
X-PUBLISHED-TTL:PT1H
BEGIN:VTIMEZONE
TZID:UTC
BEGIN:STANDARD
TZOFFSETFROM:+0000
TZOFFSETTO:+0000
TZNAME:UTC
DTSTART:20240101T000000
END:STANDARD
END:VTIMEZONE
BEGIN:VEVENT
DTSTART;TZID=UTC:20241114T184500
DTEND;TZID=UTC:20241116T200000
DTSTAMP:20260420T203806
CREATED:20241108T131159Z
LAST-MODIFIED:20241108T131159Z
UID:3958-1731609900-1731787200@cordobacapitalcofrade.com
SUMMARY:Triduo de Nuestra Señora del Mayor Dolor en su Soledad
DESCRIPTION:Triduo de Nuestra Señora del Mayor Dolor en su Soledad\, a las 19:30 horas en el Santuario de Nuestra Señora del Carmen (San Cayetano). Previamente\, a las 18:45 horas\, Exposición del Santísimo Sacramento\, Rezo del Santo Rosario y Ejercicio del Triduo.
URL:https://cordobacapitalcofrade.com/agenda/triduo-de-nuestra-senora-del-mayor-dolor-en-su-soledad/
LOCATION:Santuario de Nuestra Señora del Carmen\, C. Cta. de San Cayetano\, Centro\, 14001 Córdoba\, Córdoba\, España
CATEGORIES:Cultos
ATTACH;FMTTYPE=image/jpeg:https://cordobacapitalcofrade.com/wp-content/uploads/2024/11/406401585_837454921514349_5883775250431028480_n.jpg
END:VEVENT
BEGIN:VEVENT
DTSTART;TZID=UTC:20241117T130000
DTEND;TZID=UTC:20241117T140000
DTSTAMP:20260420T203806
CREATED:20241108T131423Z
LAST-MODIFIED:20241108T131423Z
UID:3961-1731848400-1731852000@cordobacapitalcofrade.com
SUMMARY:Función Principal de Nuestra Señora del Mayor Dolor en su Soledad
DESCRIPTION:Función Principal de Nuestra Señora del Mayor Dolor en su Soledad\, a las 13:00 horas en el Santuario de Nuestra Señora del Carmen (San Cayetano).
URL:https://cordobacapitalcofrade.com/agenda/funcion-principal-de-nuestra-senora-del-mayor-dolor-en-su-soledad-2/
LOCATION:Santuario de Nuestra Señora del Carmen\, C. Cta. de San Cayetano\, Centro\, 14001 Córdoba\, Córdoba\, España
CATEGORIES:Cultos
ATTACH;FMTTYPE=image/jpeg:https://cordobacapitalcofrade.com/wp-content/uploads/2024/11/406401585_837454921514349_5883775250431028480_n.jpg
END:VEVENT
END:VCALENDAR