BEGIN:VCALENDAR
VERSION:2.0
PRODID:-//Agenda Cofrade 365 Días - ECPv6.3.7//NONSGML v1.0//EN
CALSCALE:GREGORIAN
METHOD:PUBLISH
X-ORIGINAL-URL:https://cordobacapitalcofrade.com
X-WR-CALDESC:Eventos para Agenda Cofrade 365 Días
REFRESH-INTERVAL;VALUE=DURATION:PT1H
X-Robots-Tag:noindex
X-PUBLISHED-TTL:PT1H
BEGIN:VTIMEZONE
TZID:UTC
BEGIN:STANDARD
TZOFFSETFROM:+0000
TZOFFSETTO:+0000
TZNAME:UTC
DTSTART:20250101T000000
END:STANDARD
END:VTIMEZONE
BEGIN:VEVENT
DTSTART;TZID=UTC:20250202T100000
DTEND;TZID=UTC:20250202T130000
DTSTAMP:20260420T001151
CREATED:20241207T124935Z
LAST-MODIFIED:20241207T124935Z
UID:4547-1738490400-1738501200@cordobacapitalcofrade.com
SUMMARY:1er Ensayo de costaleros de Nuestra Señora del Mayor Dolor en su Soledad
DESCRIPTION:1er Ensayo de costaleros de Nuestra Señora del Mayor Dolor en su Soledad\, a las 10:00 horas desde el local de salida en la Cuesta de San Cayetano.
URL:https://cordobacapitalcofrade.com/agenda/1er-ensayo-de-costaleros-de-nuestra-senora-del-mayor-dolor-en-su-soledad-2/
LOCATION:local salida caído\, C. Cta. de San Cayetano\, 2\, Centro\, 14001 Córdoba\, Córdoba\, España
CATEGORIES:Ensayos Costaleros
ATTACH;FMTTYPE=image/jpeg:https://cordobacapitalcofrade.com/wp-content/uploads/2024/12/Caido-2023-0459-min-scaled.jpg
END:VEVENT
BEGIN:VEVENT
DTSTART;TZID=UTC:20250216T100000
DTEND;TZID=UTC:20250216T130000
DTSTAMP:20260420T001151
CREATED:20241207T125036Z
LAST-MODIFIED:20241207T125036Z
UID:4550-1739700000-1739710800@cordobacapitalcofrade.com
SUMMARY:2º Ensayo de costaleros de Nuestra Señora del Mayor Dolor en su Soledad
DESCRIPTION:2º Ensayo de costaleros de Nuestra Señora del Mayor Dolor en su Soledad\, a las 10:00 horas desde el local de salida en la Cuesta de San Cayetano.
URL:https://cordobacapitalcofrade.com/agenda/2o-ensayo-de-costaleros-de-nuestra-senora-del-mayor-dolor-en-su-soledad-2/
LOCATION:local salida caído\, C. Cta. de San Cayetano\, 2\, Centro\, 14001 Córdoba\, Córdoba\, España
CATEGORIES:Ensayos Costaleros
ATTACH;FMTTYPE=image/jpeg:https://cordobacapitalcofrade.com/wp-content/uploads/2024/12/Caido-2023-0459-min-scaled.jpg
END:VEVENT
BEGIN:VEVENT
DTSTART;TZID=UTC:20250223T100000
DTEND;TZID=UTC:20250223T133000
DTSTAMP:20260420T001151
CREATED:20250217T165846Z
LAST-MODIFIED:20250217T165846Z
UID:5245-1740304800-1740317400@cordobacapitalcofrade.com
SUMMARY:1er Ensayo de costaleros de Nuestro Padre Jesús Caído
DESCRIPTION:1er Ensayo de costaleros de Nuestro Padre Jesús Caído\, a las 10:00 horas desde el lugar de salida de la Hermandad en la Cuesta de San Cayetano.
URL:https://cordobacapitalcofrade.com/agenda/1er-ensayo-de-costaleros-de-nuestro-padre-jesus-caido-2/
LOCATION:local salida caído\, C. Cta. de San Cayetano\, 2\, Centro\, 14001 Córdoba\, Córdoba\, España
CATEGORIES:Ensayos Costaleros
ATTACH;FMTTYPE=image/jpeg:https://cordobacapitalcofrade.com/wp-content/uploads/2025/02/Caido-2023-0397-min-scaled.jpg
END:VEVENT
END:VCALENDAR