BEGIN:VCALENDAR
VERSION:2.0
PRODID:-//Agenda Cofrade 365 Días - ECPv6.3.7//NONSGML v1.0//EN
CALSCALE:GREGORIAN
METHOD:PUBLISH
X-ORIGINAL-URL:https://cordobacapitalcofrade.com
X-WR-CALDESC:Eventos para Agenda Cofrade 365 Días
REFRESH-INTERVAL;VALUE=DURATION:PT1H
X-Robots-Tag:noindex
X-PUBLISHED-TTL:PT1H
BEGIN:VTIMEZONE
TZID:UTC
BEGIN:STANDARD
TZOFFSETFROM:+0000
TZOFFSETTO:+0000
TZNAME:UTC
DTSTART:20240101T000000
END:STANDARD
END:VTIMEZONE
BEGIN:VEVENT
DTSTART;TZID=UTC:20240212T210000
DTEND;TZID=UTC:20240213T000000
DTSTAMP:20260422T080904
CREATED:20240119T165242Z
LAST-MODIFIED:20240119T165242Z
UID:1793-1707771600-1707782400@cordobacapitalcofrade.com
SUMMARY:2º Ensayo de costaleros de Nuestro Padre Jesús Caído
DESCRIPTION:2º Ensayo de costaleros de Nuestro Padre Jesús Caído a las 21:00 horas desde el local de salida en la Cuesta de San Cayetano.
URL:https://cordobacapitalcofrade.com/agenda/2o-ensayo-de-costaleros-de-nuestro-padre-jesus-caido/
LOCATION:local salida caído\, C. Cta. de San Cayetano\, 2\, Centro\, 14001 Córdoba\, Córdoba\, España
CATEGORIES:Ensayos Costaleros
ATTACH;FMTTYPE=image/jpeg:https://cordobacapitalcofrade.com/wp-content/uploads/2024/01/Hermandad-de-Jesus-Caido-2022-0504-min-scaled.jpg
END:VEVENT
BEGIN:VEVENT
DTSTART;TZID=UTC:20240212T210000
DTEND;TZID=UTC:20240213T000000
DTSTAMP:20260422T080904
CREATED:20240119T170540Z
LAST-MODIFIED:20240119T170540Z
UID:1812-1707771600-1707782400@cordobacapitalcofrade.com
SUMMARY:2º Ensayo de costaleros de Nuestra Señora del Mayor Dolor en su Soledad
DESCRIPTION:2º Ensayo de costaleros de Nuestra Señora del Mayor Dolor en su Soledad a las 21:00 horas desde el local de salida de la Hermandad en la Cuesta de San Cayetano.
URL:https://cordobacapitalcofrade.com/agenda/2o-ensayo-de-costaleros-de-nuestra-senora-del-mayor-dolor-en-su-soledad/
LOCATION:local salida caído\, C. Cta. de San Cayetano\, 2\, Centro\, 14001 Córdoba\, Córdoba\, España
CATEGORIES:Ensayos Costaleros
ATTACH;FMTTYPE=image/jpeg:https://cordobacapitalcofrade.com/wp-content/uploads/2024/01/IMG_4966-1.jpg
END:VEVENT
END:VCALENDAR