BEGIN:VCALENDAR
VERSION:2.0
PRODID:-//Agenda Cofrade 365 Días - ECPv6.3.7//NONSGML v1.0//EN
CALSCALE:GREGORIAN
METHOD:PUBLISH
X-WR-CALNAME:Agenda Cofrade 365 Días
X-ORIGINAL-URL:https://cordobacapitalcofrade.com
X-WR-CALDESC:Eventos para Agenda Cofrade 365 Días
REFRESH-INTERVAL;VALUE=DURATION:PT1H
X-Robots-Tag:noindex
X-PUBLISHED-TTL:PT1H
BEGIN:VTIMEZONE
TZID:UTC
BEGIN:STANDARD
TZOFFSETFROM:+0000
TZOFFSETTO:+0000
TZNAME:UTC
DTSTART:20240101T000000
END:STANDARD
END:VTIMEZONE
BEGIN:VEVENT
DTSTART;TZID=UTC:20240217T183000
DTEND;TZID=UTC:20240217T203000
DTSTAMP:20260422T065626
CREATED:20240212T182148Z
LAST-MODIFIED:20240212T182148Z
UID:2231-1708194600-1708201800@cordobacapitalcofrade.com
SUMMARY:Primer día del Solemne Besapiés a Nuestro Padre Jesús Caído
DESCRIPTION:Primer día del Solemne Besapiés a Nuestro Padre Jesús Caído en horario de 18:30 a 20:30 horas en la Iglesia Conventual de San José (San Cayetano).
URL:https://cordobacapitalcofrade.com/agenda/primer-dia-del-solemne-besapies-a-nuestro-padre-jesus-caido/
LOCATION:Iglesia Conventual de San José (San Cayetano\, C. Cta. de San Cayetano\,\, Córdoba\, España
CATEGORIES:Cultos
ATTACH;FMTTYPE=image/jpeg:https://cordobacapitalcofrade.com/wp-content/uploads/2024/02/besapies-caido-2017-2.jpg
END:VEVENT
END:VCALENDAR