BEGIN:VCALENDAR
VERSION:2.0
PRODID:-//Agenda Cofrade 365 Días - ECPv6.3.7//NONSGML v1.0//EN
CALSCALE:GREGORIAN
METHOD:PUBLISH
X-ORIGINAL-URL:https://cordobacapitalcofrade.com
X-WR-CALDESC:Eventos para Agenda Cofrade 365 Días
REFRESH-INTERVAL;VALUE=DURATION:PT1H
X-Robots-Tag:noindex
X-PUBLISHED-TTL:PT1H
BEGIN:VTIMEZONE
TZID:UTC
BEGIN:STANDARD
TZOFFSETFROM:+0000
TZOFFSETTO:+0000
TZNAME:UTC
DTSTART:20240101T000000
END:STANDARD
END:VTIMEZONE
BEGIN:VEVENT
DTSTART;TZID=UTC:20240310T100000
DTEND;TZID=UTC:20240310T130000
DTSTAMP:20260422T053326
CREATED:20240119T170924Z
LAST-MODIFIED:20240119T170924Z
UID:1816-1710064800-1710075600@cordobacapitalcofrade.com
SUMMARY:4º y último Ensayo de costaleros de Nuestra Señora del Mayor Dolor en su Soledad
DESCRIPTION:4º y último Ensayo de costaleros de Nuestra Señora del Mayor Dolor en su Soledad a las 10:00 horas desde el local de salida de la Hermandad en la Cuesta de San Cayetano.
URL:https://cordobacapitalcofrade.com/agenda/4o-y-ultimo-ensayo-de-costaleros-de-nuestra-senora-del-mayor-dolor-en-su-soledad/
LOCATION:local salida caído\, C. Cta. de San Cayetano\, 2\, Centro\, 14001 Córdoba\, Córdoba\, España
CATEGORIES:Ensayos Costaleros
ATTACH;FMTTYPE=image/jpeg:https://cordobacapitalcofrade.com/wp-content/uploads/2024/01/IMG_4966-1.jpg
END:VEVENT
END:VCALENDAR