BEGIN:VCALENDAR
VERSION:2.0
PRODID:-//Agenda Cofrade 365 Días - ECPv6.3.7//NONSGML v1.0//EN
CALSCALE:GREGORIAN
METHOD:PUBLISH
X-ORIGINAL-URL:https://cordobacapitalcofrade.com
X-WR-CALDESC:Eventos para Agenda Cofrade 365 Días
REFRESH-INTERVAL;VALUE=DURATION:PT1H
X-Robots-Tag:noindex
X-PUBLISHED-TTL:PT1H
BEGIN:VTIMEZONE
TZID:UTC
BEGIN:STANDARD
TZOFFSETFROM:+0000
TZOFFSETTO:+0000
TZNAME:UTC
DTSTART:20240101T000000
END:STANDARD
END:VTIMEZONE
BEGIN:VEVENT
DTSTART;TZID=UTC:20240322T210000
DTEND;TZID=UTC:20240322T220000
DTSTAMP:20260422T022417
CREATED:20240319T161016Z
LAST-MODIFIED:20240319T161016Z
UID:2671-1711141200-1711144800@cordobacapitalcofrade.com
SUMMARY:Vía Crucis con la imagen de Nuestro Padre Jesús Caído
DESCRIPTION:Vía Crucis con la imagen de Nuestro Padre Jesús Caído tras la Eucaristía de 20:30 horas recorriendo la Cuesta de San Cayetano.
URL:https://cordobacapitalcofrade.com/agenda/via-crucis-con-la-imagen-de-nuestro-padre-jesus-caido/
LOCATION:Iglesia Conventual de San José (San Cayetano\, C. Cta. de San Cayetano\,\, Córdoba\, España
CATEGORIES:Vía Crucis
ATTACH;FMTTYPE=image/webp:https://cordobacapitalcofrade.com/wp-content/uploads/2024/03/viacrucis-rezo-viernes7.webp
END:VEVENT
END:VCALENDAR