BEGIN:VCALENDAR
VERSION:2.0
PRODID:-//Agenda Cofrade 365 Días - ECPv6.3.7//NONSGML v1.0//EN
CALSCALE:GREGORIAN
METHOD:PUBLISH
X-ORIGINAL-URL:https://cordobacapitalcofrade.com
X-WR-CALDESC:Eventos para Agenda Cofrade 365 Días
REFRESH-INTERVAL;VALUE=DURATION:PT1H
X-Robots-Tag:noindex
X-PUBLISHED-TTL:PT1H
BEGIN:VTIMEZONE
TZID:UTC
BEGIN:STANDARD
TZOFFSETFROM:+0000
TZOFFSETTO:+0000
TZNAME:UTC
DTSTART:20240101T000000
END:STANDARD
END:VTIMEZONE
BEGIN:VEVENT
DTSTART;TZID=UTC:20241207T183000
DTEND;TZID=UTC:20241207T203000
DTSTAMP:20260420T203940
CREATED:20241108T132029Z
LAST-MODIFIED:20241108T132029Z
UID:3963-1733596200-1733603400@cordobacapitalcofrade.com
SUMMARY:Besamanos de Nuestra Señora del Mayor Dolor en su Soledad
DESCRIPTION:Besamanos de Nuestra Señora del Mayor Dolor en su Soledad en horario de 18:30 a 20:30 horas en el Santuario de Nuestra Señora del Carmen (San Cayetano).
URL:https://cordobacapitalcofrade.com/agenda/besamanos-de-nuestra-senora-del-mayor-dolor-en-su-soledad-3/
LOCATION:Santuario de Nuestra Señora del Carmen\, C. Cta. de San Cayetano\, Centro\, 14001 Córdoba\, Córdoba\, España
CATEGORIES:Cultos
ATTACH;FMTTYPE=image/jpeg:https://cordobacapitalcofrade.com/wp-content/uploads/2024/11/Besamanos-Soledad-0074-min-scaled.jpg
END:VEVENT
END:VCALENDAR