BEGIN:VCALENDAR
VERSION:2.0
PRODID:-//Agenda Cofrade 365 Días - ECPv6.3.7//NONSGML v1.0//EN
CALSCALE:GREGORIAN
METHOD:PUBLISH
X-ORIGINAL-URL:https://cordobacapitalcofrade.com
X-WR-CALDESC:Eventos para Agenda Cofrade 365 Días
REFRESH-INTERVAL;VALUE=DURATION:PT1H
X-Robots-Tag:noindex
X-PUBLISHED-TTL:PT1H
BEGIN:VTIMEZONE
TZID:UTC
BEGIN:STANDARD
TZOFFSETFROM:+0000
TZOFFSETTO:+0000
TZNAME:UTC
DTSTART:20250101T000000
END:STANDARD
END:VTIMEZONE
BEGIN:VEVENT
DTSTART;TZID=UTC:20250111T173000
DTEND;TZID=UTC:20250111T183000
DTSTAMP:20260420T220043
CREATED:20241207T124108Z
LAST-MODIFIED:20241207T124108Z
UID:4544-1736616600-1736620200@cordobacapitalcofrade.com
SUMMARY:Igualá de costaleros de Nuestra Señora del Mayor Dolor en su Soledad
DESCRIPTION:Igualá de costaleros de Nuestra Señora del Mayor Dolor en su Soledad\, a las 17:30 horas en la Cuesta de San Cayetano.
URL:https://cordobacapitalcofrade.com/agenda/iguala-de-costaleros-de-nuestra-senora-del-mayor-dolor-en-su-soledad-2/
LOCATION:local salida caído\, C. Cta. de San Cayetano\, 2\, Centro\, 14001 Córdoba\, Córdoba\, España
CATEGORIES:Igualás de costaleros
ATTACH;FMTTYPE=image/jpeg:https://cordobacapitalcofrade.com/wp-content/uploads/2024/12/469076518_10225767789013766_3159318464299786439_n.jpg
END:VEVENT
END:VCALENDAR