BEGIN:VCALENDAR
VERSION:2.0
PRODID:-//Agenda Cofrade 365 Días - ECPv6.3.7//NONSGML v1.0//EN
CALSCALE:GREGORIAN
METHOD:PUBLISH
X-ORIGINAL-URL:https://cordobacapitalcofrade.com
X-WR-CALDESC:Eventos para Agenda Cofrade 365 Días
REFRESH-INTERVAL;VALUE=DURATION:PT1H
X-Robots-Tag:noindex
X-PUBLISHED-TTL:PT1H
BEGIN:VTIMEZONE
TZID:UTC
BEGIN:STANDARD
TZOFFSETFROM:+0000
TZOFFSETTO:+0000
TZNAME:UTC
DTSTART:20250101T000000
END:STANDARD
END:VTIMEZONE
BEGIN:VEVENT
DTSTART;TZID=UTC:20250202T110000
DTEND;TZID=UTC:20250202T120000
DTSTAMP:20260424T205257
CREATED:20250127T165628Z
LAST-MODIFIED:20250127T165628Z
UID:5082-1738494000-1738497600@cordobacapitalcofrade.com
SUMMARY:Igualá de costaleros del Santísimo Cristo de la Buena Muerte
DESCRIPTION:Igualá de costaleros del Santísimo Cristo de la Buena Muerte\, a las 11:00 horas en el patio de la Real Colegiata de San Hipólito.
URL:https://cordobacapitalcofrade.com/agenda/iguala-de-costaleros-del-santisimo-cristo-de-la-buena-muerte-2/
LOCATION:Real Colegiata de San Hipólito\, Pl. de San Ignacio de Loyola\, Córdoba\, España
CATEGORIES:Igualás de costaleros
ATTACH;FMTTYPE=image/png:https://cordobacapitalcofrade.com/wp-content/uploads/2025/01/Captura-de-pantalla-2025-01-27-174951.png
END:VEVENT
BEGIN:VEVENT
DTSTART;TZID=UTC:20250208T170000
DTEND;TZID=UTC:20250208T180000
DTSTAMP:20260424T205257
CREATED:20250116T143645Z
LAST-MODIFIED:20250116T143645Z
UID:4972-1739034000-1739037600@cordobacapitalcofrade.com
SUMMARY:Igualá de costaleros de Nuestra Señora Reina de los Mártires
DESCRIPTION:Igualá de costaleros de Nuestra Señora Reina de los Mártires\, a las 17:00 horas en el Patio de la Real Colegiata de San Hipólito.
URL:https://cordobacapitalcofrade.com/agenda/iguala-de-costaleros-de-nuestra-senora-reina-de-los-martires-2/
LOCATION:Patio Real Colegiata de San Hipólito\, Av. del Gran Capitán\, Centro\, 14008 Córdoba\, Córdoba\, España
CATEGORIES:Igualás de costaleros
ATTACH;FMTTYPE=image/png:https://cordobacapitalcofrade.com/wp-content/uploads/2025/01/Captura-de-pantalla-2025-01-16-153007.png
END:VEVENT
BEGIN:VEVENT
DTSTART;TZID=UTC:20250216T170000
DTEND;TZID=UTC:20250216T200000
DTSTAMP:20260424T205257
CREATED:20250210T155147Z
LAST-MODIFIED:20250210T155147Z
UID:5158-1739725200-1739736000@cordobacapitalcofrade.com
SUMMARY:1er Ensayo de costaleros de Nuestra Señora Reina de los Mártires
DESCRIPTION:1er Ensayo de costaleros de Nuestra Señora Reina de los Mártires\, a las 17:00 horas desde el local de ensayos ubicado en la C/ María Zambrano\, 6.
URL:https://cordobacapitalcofrade.com/agenda/1er-ensayo-de-costaleros-de-nuestra-senora-reina-de-los-martires-2/
LOCATION:Local Buena Muerte\, C/ María Zambrano\, 6\, Noroeste\, 14011 Córdoba\, Córdoba\, España
CATEGORIES:Ensayos Costaleros
ATTACH;FMTTYPE=image/jpeg:https://cordobacapitalcofrade.com/wp-content/uploads/2025/02/buena-muerte-ssanta22-3.jpg
END:VEVENT
BEGIN:VEVENT
DTSTART;TZID=UTC:20250223T110000
DTEND;TZID=UTC:20250223T140000
DTSTAMP:20260424T205258
CREATED:20250217T170313Z
LAST-MODIFIED:20250217T170313Z
UID:5252-1740308400-1740319200@cordobacapitalcofrade.com
SUMMARY:1er Ensayo de costaleros del Santísimo Cristo de la Buena Muerte
DESCRIPTION:1er Ensayo de costaleros del Santísimo Cristo de la Buena Muerte\, a las 11:00 horas desde el local de ensayos ubicado en la C/ María Zambrano\, 6.
URL:https://cordobacapitalcofrade.com/agenda/1er-ensayo-de-costaleros-del-santisimo-cristo-de-la-buena-muerte-2/
LOCATION:Local Buena Muerte\, C/ María Zambrano\, 6\, Noroeste\, 14011 Córdoba\, Córdoba\, España
CATEGORIES:Ensayos Costaleros
ATTACH;FMTTYPE=image/jpeg:https://cordobacapitalcofrade.com/wp-content/uploads/2025/02/jpg-4.jpg
END:VEVENT
END:VCALENDAR