BEGIN:VCALENDAR
VERSION:2.0
PRODID:-//Agenda Cofrade 365 Días - ECPv6.3.7//NONSGML v1.0//EN
CALSCALE:GREGORIAN
METHOD:PUBLISH
X-ORIGINAL-URL:https://cordobacapitalcofrade.com
X-WR-CALDESC:Eventos para Agenda Cofrade 365 Días
REFRESH-INTERVAL;VALUE=DURATION:PT1H
X-Robots-Tag:noindex
X-PUBLISHED-TTL:PT1H
BEGIN:VTIMEZONE
TZID:UTC
BEGIN:STANDARD
TZOFFSETFROM:+0000
TZOFFSETTO:+0000
TZNAME:UTC
DTSTART:20250101T000000
END:STANDARD
END:VTIMEZONE
BEGIN:VEVENT
DTSTART;TZID=UTC:20250409T210000
DTEND;TZID=UTC:20250409T214500
DTSTAMP:20260420T080504
CREATED:20250220T141037Z
LAST-MODIFIED:20250220T141037Z
UID:5275-1744232400-1744235100@cordobacapitalcofrade.com
SUMMARY:Traslado del Santísimo Cristo de la Buena Muerte a su paso procesional
DESCRIPTION:Traslado del Santísimo Cristo de la Buena Muerte a su paso procesional\, a las 21:00 horas en la Real Colegiata de San Hipólito.
URL:https://cordobacapitalcofrade.com/agenda/traslado-del-santisimo-cristo-de-la-buena-muerte-a-su-paso-procesional/
LOCATION:Real Colegiata de San Hipólito\, Pl. de San Ignacio de Loyola\, Córdoba\, España
CATEGORIES:Traslados
ATTACH;FMTTYPE=image/jpeg:https://cordobacapitalcofrade.com/wp-content/uploads/2025/02/BUENA_MUERTE_CORDOBA_CRISTO_01.jpg
END:VEVENT
END:VCALENDAR