BEGIN:VCALENDAR
VERSION:2.0
PRODID:-//Agenda Cofrade 365 Días - ECPv6.3.7//NONSGML v1.0//EN
CALSCALE:GREGORIAN
METHOD:PUBLISH
X-WR-CALNAME:Agenda Cofrade 365 Días
X-ORIGINAL-URL:https://cordobacapitalcofrade.com
X-WR-CALDESC:Eventos para Agenda Cofrade 365 Días
REFRESH-INTERVAL;VALUE=DURATION:PT1H
X-Robots-Tag:noindex
X-PUBLISHED-TTL:PT1H
BEGIN:VTIMEZONE
TZID:UTC
BEGIN:STANDARD
TZOFFSETFROM:+0000
TZOFFSETTO:+0000
TZNAME:UTC
DTSTART:20250101T000000
END:STANDARD
END:VTIMEZONE
BEGIN:VEVENT
DTSTART;TZID=UTC:20250208T170000
DTEND;TZID=UTC:20250208T180000
DTSTAMP:20260425T003907
CREATED:20250116T143645Z
LAST-MODIFIED:20250116T143645Z
UID:4972-1739034000-1739037600@cordobacapitalcofrade.com
SUMMARY:Igualá de costaleros de Nuestra Señora Reina de los Mártires
DESCRIPTION:Igualá de costaleros de Nuestra Señora Reina de los Mártires\, a las 17:00 horas en el Patio de la Real Colegiata de San Hipólito.
URL:https://cordobacapitalcofrade.com/agenda/iguala-de-costaleros-de-nuestra-senora-reina-de-los-martires-2/
LOCATION:Patio Real Colegiata de San Hipólito\, Av. del Gran Capitán\, Centro\, 14008 Córdoba\, Córdoba\, España
CATEGORIES:Igualás de costaleros
ATTACH;FMTTYPE=image/png:https://cordobacapitalcofrade.com/wp-content/uploads/2025/01/Captura-de-pantalla-2025-01-16-153007.png
END:VEVENT
END:VCALENDAR