BEGIN:VCALENDAR
VERSION:2.0
PRODID:-//Agenda Cofrade 365 Días - ECPv6.3.7//NONSGML v1.0//EN
CALSCALE:GREGORIAN
METHOD:PUBLISH
X-WR-CALNAME:Agenda Cofrade 365 Días
X-ORIGINAL-URL:https://cordobacapitalcofrade.com
X-WR-CALDESC:Eventos para Agenda Cofrade 365 Días
REFRESH-INTERVAL;VALUE=DURATION:PT1H
X-Robots-Tag:noindex
X-PUBLISHED-TTL:PT1H
BEGIN:VTIMEZONE
TZID:UTC
BEGIN:STANDARD
TZOFFSETFROM:+0000
TZOFFSETTO:+0000
TZNAME:UTC
DTSTART:20250101T000000
END:STANDARD
END:VTIMEZONE
BEGIN:VEVENT
DTSTART;TZID=UTC:20250405T103000
DTEND;TZID=UTC:20250405T203000
DTSTAMP:20260422T174118
CREATED:20250331T160129Z
LAST-MODIFIED:20250331T160129Z
UID:5831-1743849000-1743885000@cordobacapitalcofrade.com
SUMMARY:1er día del Solemne Besapiés del Santísimo Cristo de Oración y Caridad y Besamanos de María Santísima de Salud y Consuelo
DESCRIPTION:1er día del Solemne Besapiés del Santísimo Cristo de Oración y Caridad y Besamanos de María Santísima de Salud y Consuelo en horario de 10:30 a 14:00 horas y de 17:00 a 20:30 horas en la Parroquia de Nuestra Señora del Rosario.
URL:https://cordobacapitalcofrade.com/agenda/1er-dia-del-solemne-besapies-del-santisimo-cristo-de-oracion-y-caridad-y-besamanos-de-maria-santisima-de-salud-y-consuelo/
LOCATION:Iglesia de Ntra. Sra. Del Rosario\, Plaza de Electromecánicas\, Córdoba\, Córdoba\, 14005\, España
CATEGORIES:Cultos
ATTACH;FMTTYPE=image/jpeg:https://cordobacapitalcofrade.com/wp-content/uploads/2025/03/Besapies-y-Besamanos-Conversion-0242.jpg
END:VEVENT
END:VCALENDAR