BEGIN:VCALENDAR
VERSION:2.0
PRODID:-//Agenda Cofrade 365 Días - ECPv6.3.7//NONSGML v1.0//EN
CALSCALE:GREGORIAN
METHOD:PUBLISH
X-WR-CALNAME:Agenda Cofrade 365 Días
X-ORIGINAL-URL:https://cordobacapitalcofrade.com
X-WR-CALDESC:Eventos para Agenda Cofrade 365 Días
REFRESH-INTERVAL;VALUE=DURATION:PT1H
X-Robots-Tag:noindex
X-PUBLISHED-TTL:PT1H
BEGIN:VTIMEZONE
TZID:UTC
BEGIN:STANDARD
TZOFFSETFROM:+0000
TZOFFSETTO:+0000
TZNAME:UTC
DTSTART:20250101T000000
END:STANDARD
END:VTIMEZONE
BEGIN:VEVENT
DTSTART;TZID=UTC:20250411T201500
DTEND;TZID=UTC:20250411T220000
DTSTAMP:20260420T073008
CREATED:20250312T161744Z
LAST-MODIFIED:20250312T161744Z
UID:5590-1744402500-1744408800@cordobacapitalcofrade.com
SUMMARY:Solemne Vía Crucis de Nuestro Padre Jesús de la Redención
DESCRIPTION:Solemne Vía Crucis de Nuestro Padre Jesús de la Redención desde la Parroquia de San Fernando con este recorrido: Salida (20:15 horas)\, Joaquín Sama Naharro\, Colombia\, Sebastián de Belalcázar\, Tenor Pedro Lavirgen\, Fuente de los Picadores\, Pintor Palomino\, Doña Berenguela\, Antonio de la Torre y del Cerro\, Alcalde Pineda de las Infantas y Castillejo\, Joaquín Sama Naharro y Entrada.
URL:https://cordobacapitalcofrade.com/agenda/solemne-via-crucis-de-nuestro-padre-jesus-de-la-redencion/
LOCATION:Parroquia de San Fernando\, C. Goya\, 24\, 14006 Córdoba\, Córdoba\, España
CATEGORIES:Vía Crucis
ATTACH;FMTTYPE=image/jpeg:https://cordobacapitalcofrade.com/wp-content/uploads/2025/03/unnamed.jpg
END:VEVENT
END:VCALENDAR