BEGIN:VCALENDAR
VERSION:2.0
PRODID:-//Agenda Cofrade 365 Días - ECPv6.3.7//NONSGML v1.0//EN
CALSCALE:GREGORIAN
METHOD:PUBLISH
X-WR-CALNAME:Agenda Cofrade 365 Días
X-ORIGINAL-URL:https://cordobacapitalcofrade.com
X-WR-CALDESC:Eventos para Agenda Cofrade 365 Días
REFRESH-INTERVAL;VALUE=DURATION:PT1H
X-Robots-Tag:noindex
X-PUBLISHED-TTL:PT1H
BEGIN:VTIMEZONE
TZID:UTC
BEGIN:STANDARD
TZOFFSETFROM:+0000
TZOFFSETTO:+0000
TZNAME:UTC
DTSTART:20240101T000000
END:STANDARD
END:VTIMEZONE
BEGIN:VEVENT
DTSTART;TZID=UTC:20240607T203000
DTEND;TZID=UTC:20240608T213000
DTSTAMP:20260425T015154
CREATED:20240605T142256Z
LAST-MODIFIED:20240605T142256Z
UID:3100-1717792200-1717882200@cordobacapitalcofrade.com
SUMMARY:Solemne Triduo al Santísimo Sacramento de la Hermandad de la Estrella
DESCRIPTION:Solemne Triduo al Santísimo Sacramento a las 21:00 horas horas en la Parroquia de San Fernando. Previamente a las 20:30 horas\, Exposición del Santísimo Sacramento\, Santo Rosario\, Bendición y Reserva.
URL:https://cordobacapitalcofrade.com/agenda/solemne-triduo-al-santisimo-sacramento-de-la-hermandad-de-la-estrella/
LOCATION:Parroquia de San Fernando\, C. Goya\, 24\, 14006 Córdoba\, Córdoba\, España
CATEGORIES:Cultos
ATTACH;FMTTYPE=image/jpeg:https://cordobacapitalcofrade.com/wp-content/uploads/2024/06/354881931_648576500646535_6588617502328325847_n.jpg
END:VEVENT
END:VCALENDAR