BEGIN:VCALENDAR
VERSION:2.0
PRODID:-//Agenda Cofrade 365 Días - ECPv6.3.7//NONSGML v1.0//EN
CALSCALE:GREGORIAN
METHOD:PUBLISH
X-WR-CALNAME:Agenda Cofrade 365 Días
X-ORIGINAL-URL:https://cordobacapitalcofrade.com
X-WR-CALDESC:Eventos para Agenda Cofrade 365 Días
REFRESH-INTERVAL;VALUE=DURATION:PT1H
X-Robots-Tag:noindex
X-PUBLISHED-TTL:PT1H
BEGIN:VTIMEZONE
TZID:UTC
BEGIN:STANDARD
TZOFFSETFROM:+0000
TZOFFSETTO:+0000
TZNAME:UTC
DTSTART:20240101T000000
END:STANDARD
END:VTIMEZONE
BEGIN:VEVENT
DTSTART;TZID=UTC:20240915T090000
DTEND;TZID=UTC:20240915T203000
DTSTAMP:20260424T100240
CREATED:20240901T160536Z
LAST-MODIFIED:20240901T160536Z
UID:3317-1726390800-1726432200@cordobacapitalcofrade.com
SUMMARY:Besamanos de Nuestra Señora de la Estrella
DESCRIPTION:Besamanos de Nuestra Señora de la Estrella durante todo el día en la Parroquia de San Fernando.
URL:https://cordobacapitalcofrade.com/agenda/besamanos-de-nuestra-senora-de-la-estrella/
LOCATION:Parroquia de San Fernando\, C. Goya\, 24\, 14006 Córdoba\, Córdoba\, España
CATEGORIES:Cultos
ATTACH;FMTTYPE=image/jpeg:https://cordobacapitalcofrade.com/wp-content/uploads/2024/09/Besamanos-Estrella-0094-min-scaled.jpg
END:VEVENT
END:VCALENDAR