BEGIN:VCALENDAR
VERSION:2.0
PRODID:-//Agenda Cofrade 365 Días - ECPv6.3.7//NONSGML v1.0//EN
CALSCALE:GREGORIAN
METHOD:PUBLISH
X-ORIGINAL-URL:https://cordobacapitalcofrade.com
X-WR-CALDESC:Eventos para Agenda Cofrade 365 Días
REFRESH-INTERVAL;VALUE=DURATION:PT1H
X-Robots-Tag:noindex
X-PUBLISHED-TTL:PT1H
BEGIN:VTIMEZONE
TZID:UTC
BEGIN:STANDARD
TZOFFSETFROM:+0000
TZOFFSETTO:+0000
TZNAME:UTC
DTSTART:20250101T000000
END:STANDARD
END:VTIMEZONE
BEGIN:VEVENT
DTSTART;TZID=UTC:20250309T100000
DTEND;TZID=UTC:20250309T203000
DTSTAMP:20260421T113500
CREATED:20250214T140626Z
LAST-MODIFIED:20250214T140626Z
UID:5209-1741514400-1741552200@cordobacapitalcofrade.com
SUMMARY:Besamanos de Nuestro Padre Jesús de la Redención
DESCRIPTION:Besamanos de Nuestro Padre Jesús de la Redención durante todo el día en la Parroquia de San Fernando.
URL:https://cordobacapitalcofrade.com/agenda/besamanos-de-nuestro-padre-jesus-de-la-redencion-2/
LOCATION:Parroquia de San Fernando\, C. Goya\, 24\, 14006 Córdoba\, Córdoba\, España
CATEGORIES:Cultos
ATTACH;FMTTYPE=image/jpeg:https://cordobacapitalcofrade.com/wp-content/uploads/2025/02/428415689_789840303186820_8276684596128353996_n.jpg
END:VEVENT
END:VCALENDAR