BEGIN:VCALENDAR
VERSION:2.0
PRODID:-//Agenda Cofrade 365 Días - ECPv6.3.7//NONSGML v1.0//EN
CALSCALE:GREGORIAN
METHOD:PUBLISH
X-ORIGINAL-URL:https://cordobacapitalcofrade.com
X-WR-CALDESC:Eventos para Agenda Cofrade 365 Días
REFRESH-INTERVAL;VALUE=DURATION:PT1H
X-Robots-Tag:noindex
X-PUBLISHED-TTL:PT1H
BEGIN:VTIMEZONE
TZID:UTC
BEGIN:STANDARD
TZOFFSETFROM:+0000
TZOFFSETTO:+0000
TZNAME:UTC
DTSTART:20250101T000000
END:STANDARD
END:VTIMEZONE
BEGIN:VEVENT
DTSTART;TZID=UTC:20250926T210000
DTEND;TZID=UTC:20250926T220000
DTSTAMP:20260420T064206
CREATED:20250922T183413Z
LAST-MODIFIED:20250922T183413Z
UID:7072-1758920400-1758924000@cordobacapitalcofrade.com
SUMMARY:Solemne Traslado de Nuestra Señora del Rosario Coronada a su altar de cultos
DESCRIPTION:Solemne Traslado de Nuestra Señora del Rosario Coronada a su altar de cultos a las 21:00 horas en la Real Iglesia de San Pablo.
URL:https://cordobacapitalcofrade.com/agenda/solemne-traslado-de-nuestra-senora-del-rosario-coronada-a-su-altar-de-cultos-2/
LOCATION:Real Iglesia de San Pablo\, C. Capitulares\, 18\, Córdoba\, España
CATEGORIES:Traslados
ATTACH;FMTTYPE=image/jpeg:https://cordobacapitalcofrade.com/wp-content/uploads/2025/09/G1TiRFXWEAAUtNr.jpg
END:VEVENT
END:VCALENDAR