BEGIN:VCALENDAR
VERSION:2.0
PRODID:-//Agenda Cofrade 365 Días - ECPv6.3.7//NONSGML v1.0//EN
CALSCALE:GREGORIAN
METHOD:PUBLISH
X-ORIGINAL-URL:https://cordobacapitalcofrade.com
X-WR-CALDESC:Eventos para Agenda Cofrade 365 Días
REFRESH-INTERVAL;VALUE=DURATION:PT1H
X-Robots-Tag:noindex
X-PUBLISHED-TTL:PT1H
BEGIN:VTIMEZONE
TZID:UTC
BEGIN:STANDARD
TZOFFSETFROM:+0000
TZOFFSETTO:+0000
TZNAME:UTC
DTSTART:20250101T000000
END:STANDARD
END:VTIMEZONE
BEGIN:VEVENT
DTSTART;TZID=UTC:20251031T200000
DTEND;TZID=UTC:20251031T210000
DTSTAMP:20260419T191422
CREATED:20251027T142803Z
LAST-MODIFIED:20251027T142803Z
UID:7324-1761940800-1761944400@cordobacapitalcofrade.com
SUMMARY:Solemne Función en honor de Nuestra Señora del Rosario Coronada con motivo del XXXII Aniversario de su Coronación
DESCRIPTION:Solemne Función en honor de Nuestra Señora del Rosario Coronada con motivo del XXXII Aniversario de su Coronación\, a las 20:00 horas en la Real Iglesia de San Pablo.
URL:https://cordobacapitalcofrade.com/agenda/solemne-funcion-en-honor-de-nuestra-senora-del-rosario-coronada-con-motivo-del-xxxii-aniversario-de-su-coronacion/
LOCATION:Real Iglesia de San Pablo\, C. Capitulares\, 18\, Córdoba\, España
CATEGORIES:Cultos
ATTACH;FMTTYPE=image/jpeg:https://cordobacapitalcofrade.com/wp-content/uploads/2025/10/483066938_1078054521029497_8932713933792835761_n.jpg
END:VEVENT
END:VCALENDAR