BEGIN:VCALENDAR
VERSION:2.0
PRODID:-//Agenda Cofrade 365 Días - ECPv6.3.7//NONSGML v1.0//EN
CALSCALE:GREGORIAN
METHOD:PUBLISH
X-ORIGINAL-URL:https://cordobacapitalcofrade.com
X-WR-CALDESC:Eventos para Agenda Cofrade 365 Días
REFRESH-INTERVAL;VALUE=DURATION:PT1H
X-Robots-Tag:noindex
X-PUBLISHED-TTL:PT1H
BEGIN:VTIMEZONE
TZID:UTC
BEGIN:STANDARD
TZOFFSETFROM:+0000
TZOFFSETTO:+0000
TZNAME:UTC
DTSTART:20250101T000000
END:STANDARD
END:VTIMEZONE
BEGIN:VEVENT
DTSTART;TZID=UTC:20251120T204500
DTEND;TZID=UTC:20251120T220000
DTSTAMP:20260419T134246
CREATED:20251114T123111Z
LAST-MODIFIED:20251114T123111Z
UID:7545-1763671500-1763676000@cordobacapitalcofrade.com
SUMMARY:Conferencia "Del Calvario al trono. La coronación de Cristo
DESCRIPTION:Conferencia «Del Calvario al trono. La coronación de Cristo\, a cargo de D. Juan Carlos Jiménez Díaz\, Doctor en Historia del Arte por la Universidad de Granada\, a las 20:45 horas en la Capilla Sacramental de la Parroquia de San Antonio de Pádua.
URL:https://cordobacapitalcofrade.com/agenda/conferencia-del-calvario-al-trono-la-coronacion-de-cristo/
LOCATION:Parroquia de San Antonio de Pádua\, Av. Agrupación Córdoba\, 11\, 14007 Córdoba\, Córdoba\, España
CATEGORIES:Conferencia
ATTACH;FMTTYPE=image/jpeg:https://cordobacapitalcofrade.com/wp-content/uploads/2025/11/582407343_18377435710145556_5332970787669071259_n.jpg
END:VEVENT
BEGIN:VEVENT
DTSTART;TZID=UTC:20251123T130000
DTEND;TZID=UTC:20251123T140000
DTSTAMP:20260419T134246
CREATED:20251117T134211Z
LAST-MODIFIED:20251119T123835Z
UID:7581-1763902800-1763906400@cordobacapitalcofrade.com
SUMMARY:Función en honor de Nuestro Padre Jesús Humilde en su Coronación de Espinas
DESCRIPTION:Función en honor de Nuestro Padre Jesús Humilde en su Coronación de Espinas\, a las 13:00 horas en la Parroquia de San Antonio de Pádua.
URL:https://cordobacapitalcofrade.com/agenda/funcion-en-honor-de-nuestro-padre-jesus-humilde-en-su-coronacion-de-espinas-2/
LOCATION:Parroquia de San Antonio de Pádua\, Av. Agrupación Córdoba\, 11\, 14007 Córdoba\, Córdoba\, España
CATEGORIES:Cultos
ATTACH;FMTTYPE=image/jpeg:https://cordobacapitalcofrade.com/wp-content/uploads/2025/11/467551997_18333331321145556_2544124960586475091_n.jpg
END:VEVENT
BEGIN:VEVENT
DTSTART;TZID=UTC:20251129T130000
DTEND;TZID=UTC:20251129T220000
DTSTAMP:20260419T134246
CREATED:20251112T125749Z
LAST-MODIFIED:20251112T125749Z
UID:7488-1764421200-1764453600@cordobacapitalcofrade.com
SUMMARY:Migas y Zambomba Flamenca en la Hermandad de la Merced
DESCRIPTION:Migas y Zambomba Flamenca en la Hermandad de la Merced desde las 13:00 horas en el Patio de la Casa de Hermandad con actuaciones como; el Coro de la Hermandad de la Estrella de Córdoba (17:00 horas)\, Coro Amigos del Rocío (19:15 horas) y el fin de fiesta con el Grupo «Soniquete» (21:15 horas).
URL:https://cordobacapitalcofrade.com/agenda/migas-y-zambomba-flamenca-en-la-hermandad-de-la-merced-2/
LOCATION:Casa de Hermandad de la Merc\, Av. Agrupación Córdoba\, 11\, Levante\, 14007 Córdoba\, Córdoba\, España
CATEGORIES:zambomba
ATTACH;FMTTYPE=image/jpeg:https://cordobacapitalcofrade.com/wp-content/uploads/2025/11/5787667941640834184-819x1024-1.jpg
END:VEVENT
END:VCALENDAR