BEGIN:VCALENDAR
VERSION:2.0
PRODID:-//Agenda Cofrade 365 Días - ECPv6.3.7//NONSGML v1.0//EN
CALSCALE:GREGORIAN
METHOD:PUBLISH
X-ORIGINAL-URL:https://cordobacapitalcofrade.com
X-WR-CALDESC:Eventos para Agenda Cofrade 365 Días
REFRESH-INTERVAL;VALUE=DURATION:PT1H
X-Robots-Tag:noindex
X-PUBLISHED-TTL:PT1H
BEGIN:VTIMEZONE
TZID:UTC
BEGIN:STANDARD
TZOFFSETFROM:+0000
TZOFFSETTO:+0000
TZNAME:UTC
DTSTART:20250101T000000
END:STANDARD
END:VTIMEZONE
BEGIN:VEVENT
DTSTART;TZID=UTC:20250201T100000
DTEND;TZID=UTC:20250201T200000
DTSTAMP:20260424T224043
CREATED:20250116T142027Z
LAST-MODIFIED:20250116T142027Z
UID:4966-1738404000-1738440000@cordobacapitalcofrade.com
SUMMARY:Veneración de los fieles y Meditación a Nuestro Padre Jesús Humilde en su Coronación de Espinas
DESCRIPTION:Veneración de los fieles a Nuestro Padre Jesús Humilde en su Coronación de Espinas en horario de 10:00 a 20:00 horas en la Parroquia de San Antonio de Padua. \n\nA las 18:00 horas tendrá lugar la Meditación al Señor a cargo de D. José Fernández Fernández.
URL:https://cordobacapitalcofrade.com/agenda/veneracion-de-los-fieles-y-meditacion-a-nuestro-padre-jesus-humilde-en-su-coronacion-de-espinas/
LOCATION:Parroquia de San Antonio de Pádua\, Av. Agrupación Córdoba\, 11\, 14007 Córdoba\, Córdoba\, España
CATEGORIES:Cultos
ATTACH;FMTTYPE=image/jpeg:https://cordobacapitalcofrade.com/wp-content/uploads/2025/01/Besapies-Coronacion-0214-min-scaled.jpg
END:VEVENT
BEGIN:VEVENT
DTSTART;TZID=UTC:20250201T200000
DTEND;TZID=UTC:20250201T210000
DTSTAMP:20260424T224043
CREATED:20250116T141221Z
LAST-MODIFIED:20250116T141221Z
UID:4964-1738440000-1738443600@cordobacapitalcofrade.com
SUMMARY:Función Principal de Instituto de la Hermandad de la Merced
DESCRIPTION:Función Principal de Instituto de la Hermandad de la Merced\, a las 20:00 horas en la Parroquia de San Antonio de Pádua.
URL:https://cordobacapitalcofrade.com/agenda/funcion-principal-de-instituto-de-la-hermandad-de-la-merced/
LOCATION:Parroquia de San Antonio de Pádua\, Av. Agrupación Córdoba\, 11\, 14007 Córdoba\, Córdoba\, España
CATEGORIES:Cultos
ATTACH;FMTTYPE=image/jpeg:https://cordobacapitalcofrade.com/wp-content/uploads/2025/01/422151029_694791086154926_8273103595456445409_n.jpg
END:VEVENT
END:VCALENDAR