BEGIN:VCALENDAR
VERSION:2.0
PRODID:-//Agenda Cofrade 365 Días - ECPv6.3.7//NONSGML v1.0//EN
CALSCALE:GREGORIAN
METHOD:PUBLISH
X-WR-CALNAME:Agenda Cofrade 365 Días
X-ORIGINAL-URL:https://cordobacapitalcofrade.com
X-WR-CALDESC:Eventos para Agenda Cofrade 365 Días
REFRESH-INTERVAL;VALUE=DURATION:PT1H
X-Robots-Tag:noindex
X-PUBLISHED-TTL:PT1H
BEGIN:VTIMEZONE
TZID:UTC
BEGIN:STANDARD
TZOFFSETFROM:+0000
TZOFFSETTO:+0000
TZNAME:UTC
DTSTART:20250101T000000
END:STANDARD
END:VTIMEZONE
BEGIN:VEVENT
DTSTART;TZID=UTC:20250221T210000
DTEND;TZID=UTC:20250221T235900
DTSTAMP:20260425T024025
CREATED:20250105T135054Z
LAST-MODIFIED:20250105T135054Z
UID:4869-1740171600-1740182340@cordobacapitalcofrade.com
SUMMARY:Ensayo de costaleros de la cuadrilla de Nuestra Señora de la Merced
DESCRIPTION:Ensayo de costaleros de la cuadrilla de Nuestra Señora de la Merced\, a las 21:00 horas desde la Casa Hdad. ubicada en la Avenida Agrupación Córdoba\, 11.
URL:https://cordobacapitalcofrade.com/agenda/ensayo-de-costaleros-de-la-cuadrilla-de-nuestra-senora-de-la-merced/
LOCATION:Casa de Hermandad de la Merc\, Av. Agrupación Córdoba\, 11\, Levante\, 14007 Córdoba\, Córdoba\, España
CATEGORIES:Ensayos Costaleros
ATTACH;FMTTYPE=image/jpeg:https://cordobacapitalcofrade.com/wp-content/uploads/2025/01/jpg-6.jpg
END:VEVENT
END:VCALENDAR