BEGIN:VCALENDAR
VERSION:2.0
PRODID:-//Agenda Cofrade 365 Días - ECPv6.3.7//NONSGML v1.0//EN
CALSCALE:GREGORIAN
METHOD:PUBLISH
X-ORIGINAL-URL:https://cordobacapitalcofrade.com
X-WR-CALDESC:Eventos para Agenda Cofrade 365 Días
REFRESH-INTERVAL;VALUE=DURATION:PT1H
X-Robots-Tag:noindex
X-PUBLISHED-TTL:PT1H
BEGIN:VTIMEZONE
TZID:UTC
BEGIN:STANDARD
TZOFFSETFROM:+0000
TZOFFSETTO:+0000
TZNAME:UTC
DTSTART:20250101T000000
END:STANDARD
END:VTIMEZONE
BEGIN:VEVENT
DTSTART;TZID=UTC:20250924T000000
DTEND;TZID=UTC:20250924T010000
DTSTAMP:20260420T100855
CREATED:20250905T133421Z
LAST-MODIFIED:20250905T133421Z
UID:6895-1758672000-1758675600@cordobacapitalcofrade.com
SUMMARY:Felicitación a Nuestra Señora de la Merced
DESCRIPTION:Felicitación a Nuestra Señora de la Merced a cargo de D. Andrés Lorite Lorite a las 00:00 horas en la Parroquia de San Antonio de Pádua. Previamente pasacalles anunciador a cargo de la Banda de Cornetas y Tambores «Coronación de Espinas» de Córdoba.
URL:https://cordobacapitalcofrade.com/agenda/felicitacion-a-nuestra-senora-de-la-merced/
LOCATION:Parroquia de San Antonio de Pádua\, Av. Agrupación Córdoba\, 11\, 14007 Córdoba\, Córdoba\, España
CATEGORIES:Pregón
ATTACH;FMTTYPE=image/jpeg:https://cordobacapitalcofrade.com/wp-content/uploads/2025/09/Besamanos-Merced-0125-scaled.jpg
END:VEVENT
BEGIN:VEVENT
DTSTART;TZID=UTC:20250924T100000
DTEND;TZID=UTC:20250924T210000
DTSTAMP:20260420T100855
CREATED:20250905T133752Z
LAST-MODIFIED:20250905T133752Z
UID:6898-1758708000-1758747600@cordobacapitalcofrade.com
SUMMARY:Besamanos de Nuestra Señora de la Merced
DESCRIPTION:Besamanos de Nuestra Señora de la Merced en horario de 10:00 a 21:00 horas en la Parroquia de San Antonio de Pádua.
URL:https://cordobacapitalcofrade.com/agenda/besamanos-de-nuestra-senora-de-la-merced/
LOCATION:Parroquia de San Antonio de Pádua\, Av. Agrupación Córdoba\, 11\, 14007 Córdoba\, Córdoba\, España
CATEGORIES:Cultos
ATTACH;FMTTYPE=image/jpeg:https://cordobacapitalcofrade.com/wp-content/uploads/2025/09/Besamanos-Merced-0125-scaled.jpg
END:VEVENT
BEGIN:VEVENT
DTSTART;TZID=UTC:20250924T210000
DTEND;TZID=UTC:20250924T220000
DTSTAMP:20260420T100855
CREATED:20250905T134741Z
LAST-MODIFIED:20250905T134741Z
UID:6900-1758747600-1758751200@cordobacapitalcofrade.com
SUMMARY:Función Solemne de Nuestra Señora de la Merced
DESCRIPTION:Función Solemne de Nuestra Señora de la Merced\, a las 21:00 horas en la Parroquia de San Antonio de Pádua.
URL:https://cordobacapitalcofrade.com/agenda/funcion-solemne-de-nuestra-senora-de-la-merced/
LOCATION:Parroquia de San Antonio de Pádua\, Av. Agrupación Córdoba\, 11\, 14007 Córdoba\, Córdoba\, España
CATEGORIES:Cultos
ATTACH;FMTTYPE=image/jpeg:https://cordobacapitalcofrade.com/wp-content/uploads/2025/09/469380839_18334688059145556_5599796989470547975_n-1.jpg
END:VEVENT
END:VCALENDAR