BEGIN:VCALENDAR
VERSION:2.0
PRODID:-//Agenda Cofrade 365 Días - ECPv6.3.7//NONSGML v1.0//EN
CALSCALE:GREGORIAN
METHOD:PUBLISH
X-WR-CALNAME:Agenda Cofrade 365 Días
X-ORIGINAL-URL:https://cordobacapitalcofrade.com
X-WR-CALDESC:Eventos para Agenda Cofrade 365 Días
REFRESH-INTERVAL;VALUE=DURATION:PT1H
X-Robots-Tag:noindex
X-PUBLISHED-TTL:PT1H
BEGIN:VTIMEZONE
TZID:UTC
BEGIN:STANDARD
TZOFFSETFROM:+0000
TZOFFSETTO:+0000
TZNAME:UTC
DTSTART:20250101T000000
END:STANDARD
END:VTIMEZONE
BEGIN:VEVENT
DTSTART;TZID=UTC:20251018T183000
DTEND;TZID=UTC:20251018T230000
DTSTAMP:20260422T114945
CREATED:20250926T152254Z
LAST-MODIFIED:20250926T152254Z
UID:7144-1760812200-1760828400@cordobacapitalcofrade.com
SUMMARY:Traslado de vuelta de Nuestro Padre Jesús Humilde en su Coronación de Espinas Magno Vía Crucis "Córdoba\, Vía Sacra de Occidente"
DESCRIPTION:Traslado de vuelta de Nuestro Padre Jesús Humilde en su Coronación de Espinas tras el Magno Vía Crucis «Córdoba\, Vía Sacra de Occidente» siguiendo este itinerario \nSalida de la Santa Iglesia Catedral (18:30 horas)\, Patio de los Naranjos\, Puerta del Perdón\, Cardenal Herrero\, Judería\, Deanes\, Conde y Luque (19:10 horas)\, Plaza Agrupación de Cofradías\, Blanco Belmonte\, Ángel de Saavedra\, Jesús y María (19:30 horas)\, Cruz Conde\, San Álvaro (20:00 horas)\, Plaza de San Miguel\, San Zoilo\, Conde de Torres Cabrera (20:30 horas)\, Jardines de la Merced\, Torre de la Malmuerta (21:00 horas)\, Avenida de las Ollerías\, Cuesta de San Cayetano\, Eugenio D´ors (21:30 horas)\, Esperanza\, San Juan de la Cruz\, Virgen de Linares (22:00 horas)\, Agrupación Córdoba y Entrada (23:00 horas).  \n– Acompañamiento musical: Banda de Cornetas y Tambores «Coronación de Espinas» de Córdoba.
URL:https://cordobacapitalcofrade.com/agenda/traslado-de-vuelta-de-nuestro-padre-jesus-humilde-en-su-coronacion-de-espinas-magno-via-crucis-cordoba-via-sacra-de-occidente/
LOCATION:Santa Iglesia Catedral de Córdoba\, C. Cardenal Herrero\, 1\, Córdoba\, España
CATEGORIES:Procesión
ATTACH;FMTTYPE=image/jpeg:https://cordobacapitalcofrade.com/wp-content/uploads/2025/09/491830052_702214372464423_7519130861049993325_n.jpg
END:VEVENT
END:VCALENDAR